BEGIN:VCALENDAR
VERSION:2.0
PRODID:-//PD Zanatlija - ECPv4.6.9//NONSGML v1.0//EN
CALSCALE:GREGORIAN
METHOD:PUBLISH
X-WR-CALNAME:PD Zanatlija
X-ORIGINAL-URL:https://www.pd-zanatlija.hr
X-WR-CALDESC:Events for PD Zanatlija
BEGIN:VEVENT
DTSTART;TZID=Europe/Zagreb:20240823T140000
DTEND;TZID=Europe/Zagreb:20240825T200000
DTSTAMP:20260422T162933
CREATED:20231213T093051Z
LAST-MODIFIED:20240803T161148Z
UID:10584-1724421600-1724616000@www.pd-zanatlija.hr
SUMMARY:Mala Paklenica\, Poštak
DESCRIPTION:Mala Paklenica (Anića Kuk) – Poštak \n23.8. – 25.8. 2024. \n\nhttp://www.pd-zanatlija.hr/wp-content/uploads/2023/12/Blue-Simple-Collage-Great-Outdoors-Month-Instagram-Post.mp4\n  \nNP “Paklenica”\nNa području južnog Velebita nalazi se Nacionalni park Paklenica\, jedno od najatraktivnijih područja Velebita gdje se isprepliće ljuti krš sa škrapama\, a istovremeno i sa šumama bukve\, crnog bora\, graba te s mnoštvom cvjetnih vrsta i prekrasnih livada. To područje proglašeno je nacionalnim parkom 1949.god.\, kada je imalo 3675 ha\, a 1999.god. se povećalo na 96oo ha.\nNacionalni park obuhvaća Veliku i Malu Paklenicu. Najbolje su trasirane staze iz Velike Paklenice\, dok je mnogo teže kroz divljinu Male Paklenice koja je strmija. U prodoru Velike Paklenice teče potok Paklenica. U kasno proljeće je izuzetno bogat vodom\, koja buči i prelijeva se preko kamenih oblutaka u tjesnacu\, između divovskih okomitih kanjona\, u podnožju Anić Kuka (712 m)\, s najvišom stijenom u Velebitu. \n\nKanjon Male Paklenice poznat je po svojoj „divljini“ i netaknutoj prirodi. Potoci Mala i Velika Paklenica su jedini stalni vodeni tokovi na južnim obroncima Velebita. Mala Paklenica “skromnijih” je razmjera od Velike Paklenice i bujica što teče kroz nju je znatno slabija. Potok Male Paklenice je 12\,5 km dug\, a izvire ispod Vlaškograda\, iz nekoliko izvora. Mala Paklenica u pravilu ima vode u koritu uzvodno od odvojka staze za Njivu Lekinu\, dok u donjem dijelu presušuje. Lijeva pritoka Male Paklenice\, Orljača je također bujični tok koji ljeti presušuje. U kišovitom dijelu godine kad kanjonom teče voda\, staza je neprohodna. \n\nOsam kilometara nizvodno od izvora\, Mala Paklenica oblikuje dug kanjon obilježen strmcima visokim i do 300 m. Kanjon je mjestimično širok svega 10 m.\nDo ulazne recepcije Mala Paklenica moguće je doći automobilom\, odatle u kanjon Male Paklenice moguće isključivo pješačenjem. Staza velikim dijelom vodi kroz korito potoka Mala Paklenica i mjestimično je vrlo zahtjevna. Nakon četiri i pol sata hoda kroz kanjon staza vodi kroz travnjake na Njivi Lekinoj i zatim prema Jurlinama\, pa Grabovim dolinama do Lukčeve pećine i Anića Kuka. Nakon toga slijedi spuštanje u kanjon Velike Paklenice. \n  \nPoštak \nPoštak je lijep\, razgledan vrh s tri krševite glavice. Najviša točka je mala zaravan\, u čijoj se blizini padina počinje naglo obrušavati na sjeverozapadnu stranu. Na brojnim kartama Poštak je označen imenom Kečina kosa\, no među planinarima prevladao je naziv Poštak. Poštak je gotovo u cijelosti prekriven prostranim travnjacima\, s malo šume i mnogo krških obilježja. Iz daljine se posebno ističe po strmoj\, gotovo odsječenoj padini ispod vrha. Osim zbog širokih vidika\, planinarski je zanimljiv zbog prirodnog parka neobičnih kamenih skulptura na travnatoj padini pokraj markirane staze\, na visini od 1200 metara. Geolozi objašnjavaju njegov postanak eolskom erozijom\, tvrdeći da je bura izbrusila kamen noseći oštra zrnca dolomitnog pijeska\, a ostali su samo tvrđi dijelovi stijene. \n  \nPlan puta: \nPolazak je u petak\, 23.8. 2024. u 14h s parkirališta kod Interšpara na Sjenjaku. Voze dva kombija. Noćenje je u apartmanima Marina u Starigradu.  \nSubota: Polazak iz apartmana na stazu u 6:30h. Staza počinje kod mjesta Seline kod Starigrada\, gdje se ulazi u NP Paklenica (ulaznica je plaćena). Nakon hodanja opisanoga gore\, slijedi kupanje u Starigradu i po dogovoru večera kod Marine. \nNedjelja: Polazak iz apartmana na stazu u 6:30h. Staza počinje iz sela Otrić\, ŽP Zrmanja. Hoda se oko 4km (ukupno oko 4h) do vrha Poštak i nazad. Slijedi povratak u Osijek. \nCijena izleta: 155€ (prijevoz\, dva noćenja i ulaznice za NP Paklenica) \nKontakt: Ivan Šaravanja 0977311572 \n  \nUPUTE IZLETNICIMA \nPotrebna oprema: gojzerice\, štapovi\, odjeća primjerena vremenskoj prognozi\, dovoljna količina vode (najmanje 3l) i hrana iz ruksaka. \n  \nNAPOMENA: Tijekom izleta sudionik izleta treba: \n• skrbiti se o svojoj sigurnosti i sigurnosti drugih planinara\, \n• postupati prema uputama glavnog vodiča\, \n• ponašati se u skladu s načelima planinarske etike\, \n• čuvati ugled planinarske udruge\, \nSvaki sudionik svojim pristupanjem izletu potvrđuje da je upoznat sa \nuvjetima izleta te da ispunjava zdravstvene\, fizičke i tehničke uvjete za \nsigurno sudjelovanje na izletu\, da izletu pristupa na vlastitu odgovornost\, \nda ima plaćenu članarinu Društvu\, te da će se pridržavati plana izleta\, \nuputa i odluka Glavnog vodiča. Nije dozvoljeno uznemiravanje životinja\, \nbranje biljaka\, te bacanje otpada po okolišu. Tijekom izleta sudionik je \nodgovoran Glavnom vodiču. Glavni vodič ne snosi odgovornost za osobu \nkoja se samovoljno udalji od vođene skupine\, bez njegova znanja ili \nprotivno njegovoj uputi. \nPratite nas i lajkajte
URL:https://www.pd-zanatlija.hr/izlet/mala-paklenica-postak/
END:VEVENT
END:VCALENDAR