BEGIN:VCALENDAR
VERSION:2.0
PRODID:-//PD Zanatlija - ECPv4.6.9//NONSGML v1.0//EN
CALSCALE:GREGORIAN
METHOD:PUBLISH
X-WR-CALNAME:PD Zanatlija
X-ORIGINAL-URL:https://www.pd-zanatlija.hr
X-WR-CALDESC:Events for PD Zanatlija
BEGIN:VEVENT
DTSTART;VALUE=DATE:20240831
DTEND;VALUE=DATE:20240902
DTSTAMP:20260422T180942
CREATED:20231213T093344Z
LAST-MODIFIED:20240823T094952Z
UID:10588-1725062400-1725235199@www.pd-zanatlija.hr
SUMMARY:IV. Memorijalni pohod planinarskom obilaznicom dr. Andrije Štampara
DESCRIPTION:S velikim zadovoljstvom vas pozivamo na Četvrti po redu pohod planinarskom obilaznicom Dr. Andrija Štampar\, koji će se ove godine održati u noćnim satima. Ovaj pohod dio je proslave 150 godina organiziranog planinarstva u Hrvatskoj i jedan je od 150 izleta koji su organizirani u tu čast. \nOkvirni plan izleta: \n  \nSUBOTA\, 31.8.2024. \n16:00 – 17:00h okupljanje sudionika na parkingu kod škole u Brodskom Drenovcu odakle će biti organiziran prijevoz opreme i stvari do planinarske kuće Viljevo. \n17:00h polazak prema planinarskoj kući Viljevo \n17:00 – 20:00h postavljanje šatora za one koji spavaju te druženje uz glazbu i ponudu hrane i pića u planinarskoj kući Viljevo. \n20:00h polazak na pohod obilaznicom Dr. Andrija Štampar u smjeru Kasonjskog vrha uz stručno vođenje vodiča PD “Zanatlija” Osijek. \n  \nNEDJELJA  1.9.2024.  \n01:00h dolazak natrag do planinarske kuće Viljevo. \n01:00h – 01:30h – astronomska prezentacija ljetnog noćnog neba/orijentacija pomoću zvijezda \n01:00h – … druženje i noćenje. \n09:00h – organizirani prijevoz stvari i opreme do parkinga pored škole u Brodskom Drenovcu \n09:00h završetak izleta. \n  \nPRIJAVE I INFORMACIJE: \n\nIVAN ČORAK – 099-7302701\nZDRAVKO EĆIMOVIĆ LOJZA – 091-7315819\n\n  \n  \nVAŽNE NAPOMENE 1: \n\nOrganiziranog prijevoza nema.\nSvi zainteresirani neka se jave vodiču – Ivan Čorak 099-730-2701 pa ćemo se rasporediti po automobilima.\nZa noćenje je moguće spavati u Planinarskoj kući Viljevo ili u šatoru. Šator možete ponijeti svoj\, a s nekoliko šatora raspolaže i  društvo\, ali je potrebno ponijeti vreću za spavanje i podlogu.\nKod planinarske kuće Viljevo bit će dostupna pitka voda\nObavezno je nositi naglavnu svjetiljku za cca 4h hoda po noći\n\n  \nNapomene \n\nZa sudjelovanje na organiziranom izletu PD Zanatlija Osijek\, nužno je imati plaćenu članarinu za tekuću kalendarsku godinu\nSvaki sudionik pristupa izletu na vlastitu odgovornost\nNije dozvoljeno uznemiravanje životinja\, branje biljaka\, te bacanje otpada po okolišu.\nOrganizator zadržava pravo izmjene programa izleta prema uvjetima na terenu.\nTijekom izleta sudionik izleta treba:\nSkrbiti se o svojoj sigurnosti i sigurnosti drugih planinara;\nPostupati prema uputama glavnog vodiča;\nPonašati se u skladu s načelima planinarske etike;\nČuvati ugled planinarske udruge;\nBiti odgovoran glavnom vodiču.\nSvaki sudionik svojim pristupanjem izletu potvrđuje da je upoznat s uvjetima izleta te da ispunjava zdravstvene\, fizičke i tehničke uvjete za sigurno sudjelovanje na izletu\, da izletu pristupa na vlastitu odgovornost\, da ima plaćenu članarinu Društvu\, te da će se u skladu s planinarskom etikom pridržavati plana izleta\, uputa i odluka glavnog vodiča.\nGlavni vodič ne snosi odgovornost za osobu koja se samovoljno udalji od vođene skupine\, bez njegova znanja ili protivno njegovoj uputi.\n\n \nPratite nas i lajkajte
URL:https://www.pd-zanatlija.hr/izlet/iv-memorijalni-pohod-planinarskom-obilaznicom-dr-andrije-stampara-2/
END:VEVENT
END:VCALENDAR