BEGIN:VCALENDAR
VERSION:2.0
PRODID:-//PD Zanatlija - ECPv4.6.9//NONSGML v1.0//EN
CALSCALE:GREGORIAN
METHOD:PUBLISH
X-WR-CALNAME:PD Zanatlija
X-ORIGINAL-URL:https://www.pd-zanatlija.hr
X-WR-CALDESC:Events for PD Zanatlija
BEGIN:VEVENT
DTSTART;VALUE=DATE:20260426
DTEND;VALUE=DATE:20260427
DTSTAMP:20260423T133939
CREATED:20251224T143555Z
LAST-MODIFIED:20260331T164343Z
UID:13495-1777161600-1777247999@www.pd-zanatlija.hr
SUMMARY:Baranjska planinarska obilaznica
DESCRIPTION:BARANJSKA PLANINARSKA OBILAZNICA\nNedjelja\, 26.04.2026. \nBaranjska planinarska obilaznica je otvorena 2021 godine\, uređena i označena trudom članova našeg društva. Obilaznica\, duga oko 30 km\, vodi kroz sve karakteristične krajolike Baranje: šume\, pašnjake\, vinograde\, polja i surduke\, uz malu riječicu Karašicu i preko brojnih staza divljači\, sve do našeg Grunta – izletišta otvorenog svim planinarima i dobronamjernim gostima. \n  \nOpis puta: \n\nPolazak iz Osijeka u 7:00 sati\, parking trgovačkog centra Interspar Sjenjak (kod Rokatiki)\,\nVožnja do svetišta u Popovcu (cca 40 minuta)\,\nU 7:45 krećemo s hodanjem\nRuta: cijela BPO Popovac > Batina\nPlaninare koji ne žele hodati cijelu stazu bus vozi do centra Kotline\nU 8:30 krećemo s hodanjem\nRuta: Kotlina > Batina\nPovratak prema Osijeku oko 18:00h.\n\nStaza 1\, KT1 – Svetište   do   KT16 – Gradac/Batina\, dužine 28 kilometara\, 9 sati hodanja s kratkim pauzama. Kondicijska zahtjevnost: K3 – Teško;  7 do 9 sati hoda\, tehnička zahtjevnost: T1 – ne zahtjevno. \nStaza 2\, Od Kotline KT10  do KT16 – Gradac/Batina\, dužine je 16\,5 kilometara\, 5 sati hoda 6 sati s pauzama. Kondicijska zahtjevnost: K2 – Umjereno teško; 5 do 7h hoda\, tehnička zahtjevnost: T1 – ne zahtjevno. \nCijena prijevoza autobusom po osobi: 14\,00 € (minimalan broj sudionika 35\, najviše 48).\nDnevnik BPO “Baranjska planinarska obilaznica”® – 8\,00 €\nU slučaju lošeg vremena izlet se odgađa. \nHrana i piće: na stazi iz ruksaka / u vlastitom aranžmanu. \nPrijave na izlet:Darko Bušić\, mob: 098/22-33-66 (poziv\, SMS\, Viber). \nUplate se primaju na sastancima društva utorkom (ranija uplata prijevoza rezervira mjesto). \nUplate na IBAN: HR46 2360 0001 1027 9137 8\, u opis navesti naziv izleta i ime i prezime planinara. \n  \nOprema: \n\nPlaninarska iskaznica s uplaćenom članarinom za tekuću godinu\nosobna i zdravstvena iskaznica\nobuća (čvršće tenisice ili gojzerice) i odjeća prilagođena vremenski prilikama i višesatnom hodanju\nštapovi za hodanje\nMinimalno 3l vode\nSva druga potrebna oprema za jednodnevni izlet\n\n Napomene \n\nSvaki sudionik pristupa izletu na vlastitu odgovornost\nNije dozvoljeno uznemiravanje životinja\, branje biljaka\, te bacanje otpada po okolišu.\nOrganizator zadržava pravo izmjene programa izleta prema uvjetima na terenu.\nTijekom izleta sudionik izleta treba:\nSkrbiti se o svojoj sigurnosti i sigurnosti drugih planinara;\nPostupati prema uputama glavnog vodiča;\nPonašati se u skladu s načelima planinarske etike;\nČuvati ugled planinarske udruge;\nBiti odgovoran glavnom vodiču.\nSvaki sudionik svojim pristupanjem izletu potvrđuje da je upoznat s uvjetima izleta te da ispunjava zdravstvene\, fizičke i tehničke uvjete za sigurno sudjelovanje na izletu\, da izletu pristupa na vlastitu odgovornost\, da ima plaćenu članarinu Društvu\, te da će se u skladu s planinarskom etikom pridržavati plana izleta\, uputa i odluka glavnog vodiča.\nGlavni vodič ne snosi odgovornost za osobu koja se samovoljno udalji od vođene skupine\, bez njegova znanja ili protivno njegovoj uputi.\n\n  \n \n  \n  \n  \nPratite nas i lajkajte
URL:https://www.pd-zanatlija.hr/izlet/baranjska-planinarska-obilaznica-3/
END:VEVENT
END:VCALENDAR