BEGIN:VCALENDAR
VERSION:2.0
PRODID:-//PD Zanatlija - ECPv4.6.9//NONSGML v1.0//EN
CALSCALE:GREGORIAN
METHOD:PUBLISH
X-WR-CALNAME:PD Zanatlija
X-ORIGINAL-URL:http://www.pd-zanatlija.hr
X-WR-CALDESC:Events for PD Zanatlija
BEGIN:VEVENT
DTSTART;VALUE=DATE:20240225
DTEND;VALUE=DATE:20240226
DTSTAMP:20260421T090549
CREATED:20231213T085829Z
LAST-MODIFIED:20240126T090210Z
UID:10532-1708819200-1708905599@www.pd-zanatlija.hr
SUMMARY:Zima na Krndiji
DESCRIPTION: \nFoto: Ivan Djelagić \nZima na Krndiji – Borovik\n25.02.2024. \nPlan puta: \n8.00 polazak iz Osijeka\, parkiralište kod autopraonice na Sjenjaku (uobičajeno). Povratak je planiran u kasnim popodnevnim satima\, oko 17.00 sati. \nVožnja cestom od Osijeka prema Đakovu i jezeru Borovik \nPlaninarska ruta: Jezero Borovik\, PK Borovik\, planinarska staza Tri kralja \nVrijeme hodanja: oko 4 sata \nVisinska razlika: 100 metara \nTežina puta: lagan planinarski markirani put\, izlet primjeren za sve dobne skupine i planinare početnike \nPotrebna oprema: čvrste planinarske gojzerice\, odjeća u skladu s vremenskim prilikama i godišnjem dobu (kapa\, šal\, rukavice\, slojevita odjeća)\, ponijeti zaštitu od kiše\, ponijeti min. 1l tekućine\, planinarski štapovi prema vlastitom izboru\, preporučeni u slučaju snijega i kiše. \nInformacije o prehrani: ponijeti hrane prema osobnim potrebama\, iz ranca\, a možemo naložiti vatru i ispeći nešto kod PK Borovik \n Informacije o prijevozu: Planirani prijevoz je unajmljeni autobus. \nCijena izleta: 15 € \nPrijave i uplate: utorkom na sastancima Društva kod Terezije Novoselić\, uplatiti možete i na račun PD Zanatlije\, broj je na stranicama Društva\, u opis plaćanja staviti Krndija \nPrijaviti se možete i na mail ruzicapetrovic62@yahoo.com ili mob. 091 602 20 46 kod Ružice Petrović \nVodič: Željko Petrović; mob. 091 730 41 29\nOrganizator: PD Zanatlija Osijek \nPratite nas i lajkajte
URL:http://www.pd-zanatlija.hr/izlet/zima-na-krndiji-2/
END:VEVENT
END:VCALENDAR