BEGIN:VCALENDAR
VERSION:2.0
PRODID:-//PD Zanatlija - ECPv4.6.9//NONSGML v1.0//EN
CALSCALE:GREGORIAN
METHOD:PUBLISH
X-WR-CALNAME:PD Zanatlija
X-ORIGINAL-URL:http://www.pd-zanatlija.hr
X-WR-CALDESC:Events for PD Zanatlija
BEGIN:VEVENT
DTSTART;TZID=Europe/Zagreb:20251029T140000
DTEND;TZID=Europe/Zagreb:20251102T210000
DTSTAMP:20260419T181448
CREATED:20241218T223603Z
LAST-MODIFIED:20250905T164401Z
UID:11758-1761746400-1762117200@www.pd-zanatlija.hr
SUMMARY:Via Brattia
DESCRIPTION:Via Brattia – hodanje oko Brača \n \nPlaninari PD „Zanatlija“ i HPD „Bršljan-Jankovac“ zajedno započinju hodati prvu etapu obilaznice Via Brattia\, a u tri hodačka dana planira se obići malo manje od polovice obilaznice (preko 60 km). Via Brattia je kružna turističko-planinarska stazi na otoku Braču\, ukupne duljine oko 140 km\, koja u prekrasnu cjelinu povezuje veći broj bračkih naselja i 12 najatraktivnijih kulturno-povijesnih otočkih lokacija koje su ujedno i kontrolne točke obilaznice. Obilaznica prolazi središtem mnogih živopisnih bračkih naselja i vodi do najljepših bračkih plaža i uvala – Zlatnog rata\, Farske\, Murvice\, Lovrečine\, Smrke…Na putu se nalaze i fascinantne lokacije kao što su samostan Pustinja Blaca\, Zmajeva špilja\, poznata klesarska škola u Pučišćima i još puno atraktivnih mjesta. Obilaznicu hodamo u vrijeme berbe maslina i mandarina\, putem nailazimo i na dozreli nar i maginje s kojima ćemo se obilato sladiti\, što daje dodatnu ljepotu ovom doživljaju.  \nStaza je markirana plavo- bijelim markacijama\, a na kontrolnim točkama nalaze se neobični i različiti pečati koje treba otisnuti na za to predviđeno mjesto u dnevniku s kartom. Svih 12 otisnutih pečata stvara sliku grba otoka Brača odnosno sliku Sv. Jurja\, zaštitnika otoka\, kako ubija zmaja. Slika predstavlja suvenir i podsjetnik na lijepo i nesvakidašnje hodačko iskustvo s otoka Brača. Vodiči su za planinare osigurali dnevnike. \n  \nTermin izleta: 29. listopada do 2. studenog 2025. \nVodič izleta u ime PD Zanatlija: Sanja Vladović\, mobitel 091-797-1760. \nPrijave i uplate: kod vodiča na sastancima društva utorkom\, ranija uplata rezervira mjesto. \nVrsta prijevoza i broj sudionika: dva kombi vozila i 18 sudionika. \nSmještaj: u komfornim apartmanima i sobama u Supetru. \nPrehrana: sve sami nosimo i organiziramo\, kad formiramo grupu možemo se dogovoriti za večere u obližnjim restoranima po relativno povoljnim cijenama. \nCijena izleta: oko 180 eura\, ovisno o broju prijavljenih planinara i prijevozu\, točni iznos će se formirati nakon prijava. U cijenu je uračunat prijevoz kombijem na odredište i po otoku na stazu\, trajekt u oba smjera te četiri noćenja u apartmanima u Supetru. \nTežina i zahtjevnost staze: planirana staza je podijeljena u tri dana i tehnički je nezahtjevna. Prvi dan  staza je kondicijski srednje zahtjevna\, a drugi i treći je zahtjevna zbog planiranog većeg broja kilometara (posebno drugi dan). \nVAŽNO! I za lakše planinarske izlete potrebna je određena razina kondicije. Planinarenje se razlikuje od hodanja po ravnim gradskim ulicama – staze često vode uzbrdo\, teren je neravan i nepredvidiv\, a dodatni izazov predstavlja i nošenje ruksaka. Zbog svega toga\, čak i na manje zahtjevnim turama\, tijelo je izloženo većem naporu\, pa je važno da sudionici budu svjesni vlastitih mogućnosti i pripremljeni na fizički angažman\, posebice u smislu višesatnog hodanja i većeg broja kilometara. \nOprema: \n– planinarska\, osobna i zdravstvena iskaznica; \n– plaćena članarina za 2025.; \n-odjeća i obuća prilagođeni zahtjevnosti staze i vremenskim uvjetima (gojzerice\, tanja i deblja odjeća\, kabanica\, sunčane naočale i pokrivalo za glavu\, naglavna lampa\, štapovi za hodanje…); \n-sva druga oprema potrebna za višednevni izlet na moru (kupaći kostim i ručnik\, mobitel\, higijena\, osobni lijekovi\, hrana…) \nDetaljni plan izleta: krećemo u srijedu 29. listopada 2025. u 14 sati s parkirališta iza Spara i vozimo se za Split. U planu je ukrcati se na zadnji trajekt Split – Supetar u 24 sata. Dolazak u apartmane je oko 1 sat u noći. \nPrvi hodački dan (četvrtak): Budući da kasno liježemo\, a staza prvi dan nije duga\, krećemo u 8 sati ujutro iz apartmana hodati na istok\, dionicu od Supetra do Postire. Staza je duljine oko 15 km s ukupno oko 590 m uspona i isto toliko spusta\, jer krećemo s mora i vraćamo se na more. Planirano vrijeme hodanja je oko 7 sati\, jer putem obilazimo kontrolne točke\, a jedna od ljepših je mjesto Škrip u kojem možemo kupiti odlično maslinovo ulje\, obići Muzej otoka Brača koji je ujedno i KT obilaznice te Muzej maslinovog uja. Ako stignemo i vrijeme nas posluži\, možemo se poslijepodne okupati u Postiri pa tko želi može na hodanje u ruksaku ponijeti kupaći kostim i lagani ručnik. Nakon odmora u Postiri\, vozimo se u Supetar oko 20 minuta. Večernje druženje i aktivnosti po dogovoru. \nDrugi hodački dan (petak): Zbog duljine staze krećemo iz apartmana pješice u 6 sati na zapad prema Mirci\, Sutivanu\, Bobovišću sve do Milne. Staza djelomično ide uz more\, a zatim djelomično kroz maslinike u berbi. Duljina staze je oko 28 km s usponom ukupno oko 690 m i isto toliko spusta. Obići ćemo mjesta kroz koja prolazimo\, jer su prelijepa te je planirano vrijeme boravka na stazi oko 10/11 sati\, a čistog hodanja imamo oko 7/8 sati. Osim kondicijski zahtjevnog hodanja\, u planu je i guštanje u ljepotama Brača. Iz Milne će nas kombi vratiti u naše apartmane koji su udaljeni oko pola sata vožnje. Večernje druženje i aktivnosti po dogovoru. \nTreći hodački dan (subota): Ujutro krećemo kombijima u 6 sati i vozimo se pola sata prema Milni gdje smo jučer završili hodanje. Spuštamo se prema južnoj strani Brača\, hodamo uz more i vidimo poznate uvale i plaže  te se penjemo sve do neobičnog i prelijepog samostana Pustinja Blace koji ćemo posjetiti. Nakon toga silazimo sa staze Via Brattia i penjemo se drugom planinarskom stazom oko sat vremena prema mjestu Obršje gdje će nas čekati kombi. Ukupna duljina staze je oko 19 km s oko 750 m uspona i 350 m spusta. S posjetom samostanu planira se oko 7/8 sati boravka na stazi od čega je 5/6 sati hodanja. Iz Obršja se vozimo u Supetar oko pola sata. Tko želi može se otići okupati na plažu blizu apartmana u Supetru\, a nakon toga je večernje druženje i aktivnosti po dogovoru. \nU nedjelju dopodne krećemo na trajekt za Split i zatim za Osijek. Planirani dolazak u Osijek je u večernji satima\, uz mogući ručak putem. \nVažne napomene: \n\nsvaki sudionik pristupa izletu na vlastitu odgovornost\, potvrđuje da je upoznat s uvjetima izleta te da ispunjava zdravstvene\, fizičke i tehničke uvjete za sigurno sudjelovanje na izletu;\nmora imati uplaćenu članarinu matičnom društvu (HPS-u);\nnije dozvoljeno uznemiravanje životinja\, branje biljaka te bacanje otpada po okolišu;\nvodič zadržava pravo izmjene programa i plana izleta prema okolnostima i uvjetima na terenu.\n\n  \nTijekom izleta sudionik treba: \n\nbrinuti o svojoj sigurnosti i sigurnosti drugih planinara;\nponašati se u skladu s načelima planinarske etike;\nčuvati ugled planinarske udruge;\npridržavati se plana izleta\, uputa i odluka glavnog vodiča.\n\nVodič ne snosi odgovornost za osobu koja se samovoljno udalji od vođene skupine\, bez njegova znanja ili protivno njegovoj uputi. \n  \n   Vodič Sanja Vladović \nPratite nas i lajkajte
URL:http://www.pd-zanatlija.hr/izlet/via-brattia/
END:VEVENT
END:VCALENDAR