BEGIN:VCALENDAR
VERSION:2.0
PRODID:-//PD Zanatlija - ECPv4.6.9//NONSGML v1.0//EN
CALSCALE:GREGORIAN
METHOD:PUBLISH
X-WR-CALNAME:PD Zanatlija
X-ORIGINAL-URL:http://www.pd-zanatlija.hr
X-WR-CALDESC:Events for PD Zanatlija
BEGIN:VEVENT
DTSTART;TZID=Europe/Zagreb:20250919T140000
DTEND;TZID=Europe/Zagreb:20250921T170000
DTSTAMP:20260419T133201
CREATED:20241218T222635Z
LAST-MODIFIED:20250826T081808Z
UID:11738-1758290400-1758474000@www.pd-zanatlija.hr
SUMMARY:Velež\, Žljeb (BiH)
DESCRIPTION:Velež vrh Botin \n19.09. – 21.09.2025. \n  \n \nVelež vrh Botin iz zaseoka Kružanj.  \nVelež je krečnjačka planina u Hercegovini. Nalazi se istočno od Mostara. Pruža se smjerom sjeverozapad-jugoistok sa grebenom dužine 13 km. Najviši vrh je Botin (1969 m).\nSa vrha Botin se otvaraju jako lijepi vidici na sjevernu stjenovitu barijeru Veleža\, koja je duga oko trinaest kilometara. Otvaraju se i vidici na okolne planine: Prenj\, Crvanj\, Čabulju\, Čvrsnicu\, Bjelašnicu\, Treskavicu\, Maglić….. \nUspon na Žljeb iz sela Diva Grabovčeva.\nPočetna točka ovog planinarskog izleta je u selu Diva Grabovica koje se nalazi 35 km sjeverno od Mostara. Staza u početku slijedi makadamsku cestu\, skreće s nje u gustu grabovu\, a zatim bukovu i borovu šumu i uspinje se dosta oštro do zapuštene lovačke kuće „Žlijeb“ koja se nalazi na 890 m nadmorske visine. Od planinarske kuće do vidikovca vodi vodi markirana staza. Po njoj se na vidikovac stiže za 5 minuta. Nagrada za taj trud je prekrasan pogled na dolinu Divu Grabovicu. \n  \n \n  \nIZLET \nPetak: Polazak u 14h s parkirališta na Sjenjaku\, kod Rokatikija. Spava se u hostelu Hercegovina u Mostaru. \nSubota: Polazak na stazu u 6:30h. Trajanje hodanja 9 sati.\nNakon hodanja\, obilazak Mostara i večera. \nNedjelja: Polazak je u 7h\, uspon na Žljeb iz sela Diva Grabovčeva odakle se pruža predivan pogled na kanjon i selo Diva Grabovčeva i na Čvrsnicu. Trajanje hodanja 9 sati.\nPovratak u Osijek oko 22h. \nHrana iz ranca. \nPrijevoz: 2 kombija\, 16 planinara. \nCijena izleta: 120€ \nKontakt: Ivan Šaravanja:  097/731-1572 \n  \nUPUTE IZLETNICIMA \nPotrebna oprema: gojzerice\, štapovi\, odjeća primjerena vremenskoj prognozi\, dovoljna količina vode (najmanje 3l) i hrana iz ruksaka. \nNAPOMENA: Tijekom izleta sudionik izleta treba: \n\nskrbiti se o svojoj sigurnosti i sigurnosti drugih planinara\,\npostupati prema uputama glavnog vodiča\,\nponašati se u skladu s načelima planinarske etike\,\nčuvati ugled planinarske udruge\,\n\nSvaki sudionik svojim pristupanjem izletu potvrđuje da je upoznat sa \nuvjetima izleta te da ispunjava zdravstvene\, fizičke i tehničke uvjete za \nsigurno sudjelovanje na izletu\, da izletu pristupa na vlastitu odgovornost\, \nda ima plaćenu članarinu Društvu\, te da će se pridržavati plana izleta\, \nuputa i odluka Glavnog vodiča. Nije dozvoljeno uznemiravanje životinja\, \nbranje biljaka\, te bacanje otpada po okolišu. Tijekom izleta sudionik je \nodgovoran Glavnom vodiču. Glavni vodič ne snosi odgovornost za osobu \nkoja se samovoljno udalji od vođene skupine\, bez njegova znanja ili \nprotivno njegovoj uputi. \nPratite nas i lajkajte
URL:http://www.pd-zanatlija.hr/izlet/velez-bih/
END:VEVENT
END:VCALENDAR