BEGIN:VCALENDAR
VERSION:2.0
PRODID:-//PD Zanatlija - ECPv4.6.9//NONSGML v1.0//EN
CALSCALE:GREGORIAN
METHOD:PUBLISH
X-WR-CALNAME:PD Zanatlija
X-ORIGINAL-URL:http://www.pd-zanatlija.hr
X-WR-CALDESC:Events for PD Zanatlija
BEGIN:VEVENT
DTSTART;VALUE=DATE:20251018
DTEND;VALUE=DATE:20251020
DTSTAMP:20260419T150242
CREATED:20241218T222813Z
LAST-MODIFIED:20250613T053844Z
UID:11742-1760745600-1760918399@www.pd-zanatlija.hr
SUMMARY:Tečaj za markaciste
DESCRIPTION:Pratite nas i lajkajte
URL:http://www.pd-zanatlija.hr/izlet/tecaj-za-markaciste/
END:VEVENT
END:VCALENDAR