BEGIN:VCALENDAR
VERSION:2.0
PRODID:-//PD Zanatlija - ECPv4.6.9//NONSGML v1.0//EN
CALSCALE:GREGORIAN
METHOD:PUBLISH
X-WR-CALNAME:PD Zanatlija
X-ORIGINAL-URL:http://www.pd-zanatlija.hr
X-WR-CALDESC:Events for PD Zanatlija
BEGIN:VEVENT
DTSTART;TZID=Europe/Zagreb:20240517T080000
DTEND;TZID=Europe/Zagreb:20240519T190000
DTSTAMP:20260419T153001
CREATED:20231213T091545Z
LAST-MODIFIED:20240419T063525Z
UID:10557-1715932800-1716145200@www.pd-zanatlija.hr
SUMMARY:Staza 7 slapova
DESCRIPTION:Staza 7 slapova \n17.05.2024. do 19.05.2024. \n \nPetak\, 17.05.2024. \nPolazak iz Osijeka u 8:00 sati\, parking trgovačkog centra Interspar Sjenjak (kod Karake). Vožnja do PD Žbevnica uz dvije pauze (cca 500Km\, 6:00 sati). Dolazak u dom\, smještaj. \nStaza PD Žbevnica  > Vrh Žbevnica\,  > Špičasti Vrh\, Kružna staza\, 5\,6km\, cca 2:30 sa pauzama. Vrh Žbevnica  je kontrolna točka Hrvatske planinarske obilaznice\, KT HPO – 1. Ćićarija – vrh Žbevnica \nkondicijska zahtjevnost: K2 – umjereno zahtjevno\, tehnička zahtjevnost: T1 – nezahtjevno \n  \nSubota\, 18.05.2024. \n8:00 Vožnja od PD Žbevnica do Buzeta (30 minuta) \nStaza 7 slapova\, 15km\, 7 sati hoda sa pauzama \nNakon završetka hodanja Povratak u PD Žbevnica \nkondicijska zahtjevnost: K2 – umjereno zahtjevno\, tehnička zahtjevnost: T1 – nezahtjevno \n  \nNedjelja\, 19.05.2024. \n7:00 Vožnja od PD Žbevnica do mjesta Račja Vas cca 15 minuta \nObiteljska staza “Marećica”\, dužine oko 8 km\, 4 sata\, kružna obilaznica. \nkondicijska zahtjevnost: K2 – umjereno zahtjevno\, tehnička zahtjevnost: T1 – nezahtjevno \nNakon završetka hodanja polazak prema Osijeku\,  dolazak u Osijek oko 19sati \n  \nVrsta prijevoza: Kombi vozila \nMaksimalan broj sudionika 16 \nCijena : 100\,00 EUR \nU cijenu je uključen prijevoz i dva noćenja u PD Žbevnica. \nPrehrana:  u vlastitom aranžmanu. U domu imamo kuhinju na raspolaganju. \n  \nPrijave na izlet: \nDarko Bušić\, darko@imputo.hr \nMob: 098/22 33 66 (poziv\, SMS\, Viber) \nUplate se primaju na sastancima društva utorkom (ranija uplata rezervira mjesto). \n  \nOprema:\nPlaninarska iskaznica s uplaćenom članarinom za tekuću godinu\, osobna i zdravstvena iskaznica\, obuća:  gojzerice i odjeća prilagođena vremenski prilikama i višesatnom hodanju\, štapovi za hodanje tko želi. \n  \nNapomene: \nSvaki sudionik pristupa izletu na vlastitu odgovornost\, potvrđuje da je upoznat s uvjetima izleta te da ispunjava zdravstvene\, fizičke i tehničke uvjete za sigurno sudjelovanje na izletu. \nNije dozvoljeno uznemiravanje životinja\, branje biljaka te bacanje otpada po okolišu. \nVodič zadržava pravo izmjene programa i plana izleta prema okolnostima i uvjetima na terenu. \nTijekom izleta sudionik treba: \nBrinuti o svojoj sigurnosti i sigurnosti drugih planinara; \nPonašati se u skladu s načelima planinarske etike; \nČuvati ugled planinarske udruge; \nPridržavati se plana izleta\, uputa i odluka glavnog vodiča. \nVodič ne snosi odgovornost za osobu koja se samovoljno udalji od vođene skupine\, bez njegova znanja ili protivno njegovoj uputi. \n  \n        \nPratite nas i lajkajte
URL:http://www.pd-zanatlija.hr/izlet/staza-7-slapova/
END:VEVENT
END:VCALENDAR