BEGIN:VCALENDAR
VERSION:2.0
PRODID:-//PD Zanatlija - ECPv4.6.9//NONSGML v1.0//EN
CALSCALE:GREGORIAN
METHOD:PUBLISH
X-WR-CALNAME:PD Zanatlija
X-ORIGINAL-URL:http://www.pd-zanatlija.hr
X-WR-CALDESC:Events for PD Zanatlija
BEGIN:VEVENT
DTSTART;VALUE=DATE:20251002
DTEND;VALUE=DATE:20251006
DTSTAMP:20260419T192818
CREATED:20241218T222946Z
LAST-MODIFIED:20250826T124050Z
UID:11746-1759363200-1759708799@www.pd-zanatlija.hr
SUMMARY:Rumija (CG)
DESCRIPTION:RUMIJA \n \nOd 02.10. u 5:00 do 05.10. u 22:00 \nRumija 1594 m\, Vrsuta 1183 m i Stari grad Bar \n“Rumija je planina koja spaja more i jezero\, nebo i zemlju\, spaja vjekove i religije. Rumija je sveta crnogorska planina koja pamti svece i ratnike\, kraljeve i podanike\, planina čija istorija i danas izaziva kontroverze. Rumija\, kao ni jedna druga planina ili mjesto u Crnoj Gori\, njeguje tradiciju dugu vjekovima i sjećanje na svetog kralja Jovana Vladimira koji je čuvao svoje malo kraljevstvo na razmeđi velikih carstava s kraja desetog i početka jedanaestog vijeka.” (Visokogorci Crne Gore) \nViše o Rumiji na: https://www.dinarskogorje.com/rumija.html \nOrganizator u ime PD Zanatlija Osijek: Dražen Černi\, 098 296 673 \nCijena izleta: 250 € uključuje: prijevoz kombijem (putnička agencija s profesionalnim vozačem)\, tri noćenja u Dobroj Vodi (apartmanski smještaj s dva bazena i privatnom plažom) i ulaznicu za Stari grad Bar \nBroj sudionika: 8 \nZahtjevnost staza: Kondicijski teško 1500 m uspona i tehnički ne zahtjevno. \nOpis izleta: \nČetvrtak: Polazak s parkirališta kod autopraonice iza Interšpara na Sjenjaku u 5:00. Vožnja preko BiH s pauzom za ručak u restoranu i dolazak u Dobru Vodu oko 16 sati. Smještaj u apartmane i kupanje na plaži ili bazenu. \nPetak: Uspon na Rumiju kreće u 7:00 sati iz Starog Bara i preko Dobrog dola za 5 sati savladava se uspon od oko 1500 m u dužini puta od oko 10 km. Spuštanje je samo do Dobrog dola iz kog se kombijem oko 15 sati vraća za Dobru Vodu. Popodne je predviđeno za kupanje i odmor na plaži. Na večer prijevoz do restorana i nazad\, druženje na terasama apartmana. \nSubota: Planinarenje na Vrsutu https://www.dinarskogorje.com/sutorman-vrsuta-i-sozina.html. Uspon kreće iz Sutomora u 7:00\, savladava se visinska razlika od 1100 m. Povratak je istim putem\, ukupno trajanje 7 sati. Nakon planinarenja zadržavamo se na plaži i restoranima u Sutomoru do 17 sati.  Nakon povratka u Dobru Vodu na večer se vozimo do Bara i idemo u razgledavanje grada. \nNedjelja: Obilazak Starog grada Bara https://kulturnicentarbar.me/jpkcbar/index.php/stari-grad-bar/. Na povratku za Osijek predviđena je pauza za ručak u restoranu. Dolazak u Osijek planiran je u 22:00. \n  \nVažne napomene: \nSvaki sudionik izleta mora imati uplaćenu članarinu HPS-a za tekuću godinu. \nPrioritet kod prijave na izlet imaju članovi PD Zanatlija Osijek. \nPotrebni dokumenti su osobna i zdravstvena iskaznica. \nOprema treba biti prilagođena uvjetima planinarenja. \nNa izletu nije dozvoljeno uznemiravanje životinja\, branje biljaka i ostavljanje otpada u okolišu. \nPrijava na izlet postaje važeća samo s uplatom izleta. Kod odustajanja nema povrata novca nego se samo primaju zamjene. \nMože doći do promjene plana izleta uslijed vremenskih uvjeta i ostalih neplaniranih ali opravdavajućih situacija. \n  \n\n			\n				\n			\n			\n				\n			\n			\n				\n			\n			\n				\n			\n			\n				\n			\n			\n				\n			\n		\n\nPratite nas i lajkajte
URL:http://www.pd-zanatlija.hr/izlet/rumija-cg/
END:VEVENT
END:VCALENDAR