BEGIN:VCALENDAR
VERSION:2.0
PRODID:-//PD Zanatlija - ECPv4.6.9//NONSGML v1.0//EN
CALSCALE:GREGORIAN
METHOD:PUBLISH
X-WR-CALNAME:PD Zanatlija
X-ORIGINAL-URL:http://www.pd-zanatlija.hr
X-WR-CALDESC:Events for PD Zanatlija
BEGIN:VEVENT
DTSTART;VALUE=DATE:20251108
DTEND;VALUE=DATE:20251109
DTSTAMP:20260419T181016
CREATED:20241218T223726Z
LAST-MODIFIED:20241218T223726Z
UID:11762-1762560000-1762646399@www.pd-zanatlija.hr
SUMMARY:Radna akcija/markacisti/vodiči
DESCRIPTION:Pratite nas i lajkajte
URL:http://www.pd-zanatlija.hr/izlet/radna-akcijamarkacistivodici-2/
END:VEVENT
END:VCALENDAR