BEGIN:VCALENDAR
VERSION:2.0
PRODID:-//PD Zanatlija - ECPv4.6.9//NONSGML v1.0//EN
CALSCALE:GREGORIAN
METHOD:PUBLISH
X-WR-CALNAME:PD Zanatlija
X-ORIGINAL-URL:http://www.pd-zanatlija.hr
X-WR-CALDESC:Events for PD Zanatlija
BEGIN:VEVENT
DTSTART;VALUE=DATE:20251012
DTEND;VALUE=DATE:20251013
DTSTAMP:20260419T163539
CREATED:20241218T223504Z
LAST-MODIFIED:20251002T135125Z
UID:11756-1760227200-1760313599@www.pd-zanatlija.hr
SUMMARY:ODGOĐENO - Zanatlija kup - natjecanje u planinarskoj orijentaciji
DESCRIPTION:\n\n\n\n\n\n\nOTKAZAN ZANATLIJA KUP!\n\n\n12.10. u Gazijama kod Našica trebao se održati Zanatlija kup – natjecanje u planinarskoj orijentaciji.\n\n\nNažalost\, zbog situacije s afričkom svinjskom kugom i preporuka Nacionalnog kriznog stožera te HPS-a\, odlučili smo otkazati ovogodišnje natjecanje.\n\n\nU pripreme je već uloženo puno truda\, zato nam je žao što se nećemo družiti u planiranom terminu\, ali borba protiv afričke svinjske kuge je puno ozbiljnija stvar i svi zajedno moramo dati svoj doprinos u njezinu suzbijanju.\n\n\nNovi termin ćemo odrediti naknadno\, najrealnije da će to biti tek nagodinu.\n\n\nNadamo se kako će se situacija s afričkom svinjskom kugom čim prije riješiti \n\n\nHvala svima na razumijevanju \n\n\n\n\n\n\n\nDragi planinari i ljubitelji prirode\, \npozivamo vas da nam se pridružite na natjecanju u planinarskoj orijentaciji koje će se održati na Krndiji u Gazijama\, kod Planinarske kuće Tivanovo. \nOvo natjecanje testira ne samo tjelesnu spremu\, već i znanje\, snalažljivost i timski duh. Sudionici će\, uz pomoć karte i kompasa\, pronalaziti kontrolne točke\, te pokazati vještine u vezivanju čvorova\, pružanju prve pomoći i poznavanju planinarstva – bez pomoći mobitela\, interneta i GPS-a. \nCilj natjecanja je razvijanje korisnih planinarskih vještina\, uživanje u prirodi\, druženje i upoznavanje novih ljudi i krajeva. \n  \nViše detalja i prijave na posebnoj stranici: \nZANATLIJA KUP \nPratite nas i lajkajte
URL:http://www.pd-zanatlija.hr/izlet/prvenstvo-grada-osijeka-u-planinarskoj-orijentaciji/
ORGANIZER;CN="PD%20Zanatlija":MAILTO:zanatlija.osijek@gmail.com
END:VEVENT
END:VCALENDAR