BEGIN:VCALENDAR
VERSION:2.0
PRODID:-//PD Zanatlija - ECPv4.6.9//NONSGML v1.0//EN
CALSCALE:GREGORIAN
METHOD:PUBLISH
X-WR-CALNAME:PD Zanatlija
X-ORIGINAL-URL:http://www.pd-zanatlija.hr
X-WR-CALDESC:Events for PD Zanatlija
BEGIN:VEVENT
DTSTART;TZID=Europe/Zagreb:20240407T070000
DTEND;TZID=Europe/Zagreb:20240407T170000
DTSTAMP:20260419T124119
CREATED:20240328T061112Z
LAST-MODIFIED:20240328T061202Z
UID:10881-1712473200-1712509200@www.pd-zanatlija.hr
SUMMARY:Poučna staza Hajderovac
DESCRIPTION:Poučna staza Hajderovac \nNedjelja 07.04.2024. \n \n  \nOpis izleta: \n\nPolazak iz Osijeka u 7:00 sati\, parking trgovačkog centra Interspar Sjenjak (kod Rokatiki)\,\nVožnja do Kutjeva\, 85Km\, 1:20 sata\, pauza u Našicama za kavu\nOkupljanje na Trgu Graševine u 9:00\, nakon toga krećemo sa hodanjem\,\nStaza je duga oko 15km\, cca 6 sati hoda sa pauzama\nPolazak nazad u Osijek oko 16:00 sati. Dolazak u Osijek oko 17:00 sati\,\n\n Hrana  ‘iz ruksaka’ \nPrijevoz autobusom\, maksimalan broj sudionika 45\nCijena prijevoza\, po osobi: 12\,00 EUR \n  \nPrijave na izlet: \nDarko Bušić\, darko@imputo.hr \nMob: 098/22-33-66 (poziv\, SMS\, Viber) \nUplate se primaju na sastancima društva utorkom (ranija uplata prijevoza rezervira mjesto). \n  \n  \n  \nPoučna staza Hajderovac nalazi se u blizini grada Kutjeva\, duga je oko 15km i sastoji se od 15 edukativnih panoa koji planinarima približavaju prirodne ljepote i znamenitosti Kutjevačkog kraja. Staza kreće od Kutjevačkog podruma i dvorca te vodi kroz šumu do vidikovca s kojeg se pruža panoramski pogled na grad Kutjevo\, vinograde i okolna brda. Ako ste u potrazi za aktivnim odmorom u prirodi\, poučna staza Hajderovac odličan je izbor. Uživat ćete u lijepim prizorima\, svježem zraku\, bogatom florom i faunom ovog kraja i edukativnim sadržajima s geologijom i poviješću Kutjeva. \n  \n  \n  \nOprema:  \n\nPlaninarska iskaznica s uplaćenom članarinom za tekuću godinu\nosobna i zdravstvena iskaznica\nobuća (čvršće tenisice ili gojzerice) i odjeća prilagođena vremenski prilikama i višesatnom hodanju\nštapovi za hodanje tko želi (nema uspona)\nMinimalno 2l vode\nSva druga potrebna oprema za jednodnevni izlet\n\n  \nNapomene \n\nSvaki sudionik pristupa izletu na vlastitu odgovornost\nNije dozvoljeno uznemiravanje životinja\, branje biljaka\, te bacanje otpada po okolišu.\nOrganizator zadržava pravo izmjene programa izleta prema uvjetima na terenu.\nTijekom izleta sudionik izleta treba:\nSkrbiti se o svojoj sigurnosti i sigurnosti drugih planinara;\nPostupati prema uputama glavnog vodiča;\nPonašati se u skladu s načelima planinarske etike;\nČuvati ugled planinarske udruge;\nBiti odgovoran glavnom vodiču.\nSvaki sudionik svojim pristupanjem izletu potvrđuje da je upoznat s uvjetima izleta te da ispunjava zdravstvene\, fizičke i tehničke uvjete za sigurno sudjelovanje na izletu\, da izletu pristupa na vlastitu odgovornost\, da ima plaćenu članarinu Društvu\, te da će se u skladu s planinarskom etikom pridržavati plana izleta\, uputa i odluka glavnog vodiča.\nGlavni vodič ne snosi odgovornost za osobu koja se samovoljno udalji od vođene skupine\, bez njegova znanja ili protivno njegovoj uputi.\n\n  \n  \n  \n  \n  \n  \n  \n  \n  \n  \n  \nPratite nas i lajkajte
URL:http://www.pd-zanatlija.hr/izlet/poucna-staza-hajderovac/
END:VEVENT
END:VCALENDAR