BEGIN:VCALENDAR
VERSION:2.0
PRODID:-//PD Zanatlija - ECPv4.6.9//NONSGML v1.0//EN
CALSCALE:GREGORIAN
METHOD:PUBLISH
X-WR-CALNAME:PD Zanatlija
X-ORIGINAL-URL:http://www.pd-zanatlija.hr
X-WR-CALDESC:Events for PD Zanatlija
BEGIN:VEVENT
DTSTART;VALUE=DATE:20240630
DTEND;VALUE=DATE:20240701
DTSTAMP:20260419T220611
CREATED:20231213T092547Z
LAST-MODIFIED:20231213T092547Z
UID:10574-1719705600-1719791999@www.pd-zanatlija.hr
SUMMARY:Pješački pohod Vinkovci-Andrijaševci\, Bosutski dani
DESCRIPTION:Pratite nas i lajkajte
URL:http://www.pd-zanatlija.hr/izlet/pjesacki-pohod-vinkovci-andrijasevci-bosutski-dani/
END:VEVENT
END:VCALENDAR