BEGIN:VCALENDAR
VERSION:2.0
PRODID:-//PD Zanatlija - ECPv4.6.9//NONSGML v1.0//EN
CALSCALE:GREGORIAN
METHOD:PUBLISH
X-WR-CALNAME:PD Zanatlija
X-ORIGINAL-URL:http://www.pd-zanatlija.hr
X-WR-CALDESC:Events for PD Zanatlija
BEGIN:VEVENT
DTSTART;TZID=Europe/Zagreb:20241013T070000
DTEND;TZID=Europe/Zagreb:20241013T190000
DTSTAMP:20260421T121106
CREATED:20231213T094031Z
LAST-MODIFIED:20241006T185331Z
UID:10600-1728802800-1728846000@www.pd-zanatlija.hr
SUMMARY:Papuk: Velika - Jankovac -Velika
DESCRIPTION:Planinarski klasik\, jedan od izleta koji je dr. Željko Poljak uvrstio u 50 najljepših izleta u Hrvatskoj – Papukom od Velike do Jankovca. \n \nKružna staza u trajanju oko 6h hoda (bez uračunatih pauza).\nPutem ćemo posjetiti ruševine utvrde Velički stari grad\, Tauberove stijene stare 250 milijuna godina\, vrh Lapjak na 667m\, koji je kontrolna točka Hrvatske planinarske obilaznice\, Planinarsku kuću Jezerce na vrhu nekadašnjeg skijališta na Papuku i Jankovac koji nije potrebno posebno predstavljati gdje je planirana veća pauza. \n  \nVremenski plan izleta: \n07:00 polazak s parkinga kod IT parka\n07:45 pauza za kavu i pecivo u Našicama u centru\n09:30 polazak na stazu od parkinga aquaparka u Velikoj\n12:45 očekivani dolazak na Jankovac\n13:45 Polazak natrag prema Velikoj\n17:00 Povratak u Veliku\, polazak za Osijek\n19:00 Povratak u Osijek\nNapomena: Samo polazak iz Osijeka je fiksno definiran\, sva ostala vremena su okvirna! \n  \nPrijevoz: nema organiziranog prijevoza\, ide se osobnim automobilima\, svi koji žele i mogu voziti neka se jave vodiču! \nCijena izleta: sudjelovanje u trošku prijevoza osobnim automobilom. \nPrijave: vodiču\, Ivan Čorak\, 0997302701 (whatsapp\, viber)\, uživo na sastanku društva. \nTežina i zahtjevnost izleta: \nkondicijski i tehnički nezahtjevna staza\, oko 16km i 6h hoda (bez uračunatih pauza). \n  \nObavezna oprema: \nPlaninarska\, osobna i zdravstvena iskaznica\nOdjeća i obuća prilagođena vremenskim uvjetima:\nčvrste gojzerice\, slojevita odjeća\, zaštita od kiše\, naglavna svjetiljka\nštapovi za hodanje\nMinimalno 2l vode\nVrećica za otpatke (sve što donesemo u prirodu i planinu nosimo i natrag)\nPušači obavezno moraju nositi posudu za odlaganje opušaka – zabranjeno je bacati opuške u prirodu!\nPreobuća i lagana obuća za korištenje izvan planinarskih staza\nvrećica za spremiti gojzerice nakon hodanja\nVodič prije polaska na izlet može provjeriti opremu svih sudionika izleta; ako netko nema opremu u skladu sa zahtjevima iz najave izleta\, vodič može takvoj osobi uskratiti sudjelovanje na izletu. \n  \nPrehrana i namirnice: \nIz ruksaka\, tj. u vlastitom aranžmanu. Eventualno je moguće ručati u restoranu na Jankovcu\, ako neće biti prevelika gužva i čekanje na uslugu! \n  \nNapomene: \nZa sudjelovanje na organiziranom izletu PD Zanatlija Osijek\, nužno je imati plaćenu članarinu za tekuću kalendarsku godinu\nSvaki sudionik pristupa izletu na vlastitu odgovornost\nNije dozvoljeno uznemiravanje životinja\, branje biljaka\, te bacanje otpada po okolišu.\nOrganizator zadržava pravo izmjene programa izleta prema uvjetima na terenu.\nTijekom izleta sudionik izleta treba:\nSkrbiti se o svojoj sigurnosti i sigurnosti drugih planinara;\nPostupati prema uputama glavnog vodiča;\nPonašati se u skladu s načelima planinarske etike;\nČuvati ugled planinarske udruge;\nBiti odgovoran glavnom vodiču. \nSvaki sudionik svojim pristupanjem izletu potvrđuje da je upoznat s uvjetima izleta te da ispunjava zdravstvene\, fizičke i tehničke uvjete za sigurno sudjelovanje na izletu\, da izletu pristupa na vlastitu odgovornost\, da ima plaćenu članarinu Društvu\, te da će se u skladu s planinarskom etikom pridržavati plana izleta\, uputa i odluka glavnog vodiča.\nGlavni vodič ne snosi odgovornost za osobu koja se samovoljno udalji od vođene skupine\, bez njegova znanja ili protivno njegovoj uputi. \nPratite nas i lajkajte
URL:http://www.pd-zanatlija.hr/izlet/papukvelikajankovac/
END:VEVENT
END:VCALENDAR