BEGIN:VCALENDAR
VERSION:2.0
PRODID:-//PD Zanatlija - ECPv4.6.9//NONSGML v1.0//EN
CALSCALE:GREGORIAN
METHOD:PUBLISH
X-WR-CALNAME:PD Zanatlija
X-ORIGINAL-URL:http://www.pd-zanatlija.hr
X-WR-CALDESC:Events for PD Zanatlija
BEGIN:VEVENT
DTSTART;VALUE=DATE:20240317
DTEND;VALUE=DATE:20240318
DTSTAMP:20260419T135630
CREATED:20231213T090236Z
LAST-MODIFIED:20240303T200727Z
UID:10540-1710633600-1710719999@www.pd-zanatlija.hr
SUMMARY:Papučki jaglaci i MPŠ
DESCRIPTION:Dana 17.03.2024. (nedjelja)\, PD “Zanatlija” Osijek organizira odlazak na PAPUČKE JAGLACE – VELIKA.\nPOLAZAK U 07.00 SATI  –parkiralište iza autopraonice kod Interspara – Trpimirova (Sjenjak) \nPOVRATAK iz Velike u 17.00 sati\, dolazak u Osijek oko 19.00 sati.  \nPRIJEVOZ – AUTOBUSOM – CIJENA 12\,00 eura  \nHRANA – iz ranca i ugostiteljska ponuda domaćina \nPROGRAM IZLETA:  \n–          polazak iz Osijeka u 7.00 sati \n–          dolazak u Veliku – kod Planinarskog doma “Lapjak” – okupljanje planinara\, doručak – kruh s masti i čaj\, pozdravni govor domaćina            \n–          u 09.30 polazak na planinarske staze  – uz vodiče organizatora manifestacije \n–          povrat u Planinarski dom “Lapjak”\, ručak – hrana i piće po popularnim cijenama – glazba-grupa Amor- i zabava do 17.00 sati            \n–          u 17.00 sati povratak za Osijek\, dolazak u Osijek oko 19.00 sati  \nVOĐA PUTA – LJILJA HAVRANEK – TEL.  095-900-9096 \n – Prijave se mogu obaviti telefonski ili na redovitim sastancima društva – utorkom od 19\,30 do 20\,15 sati u Strossmayerovoj 1 – sala za sastanke na 1.katu. Uplata osigurava mjesto u autobusu.  \nPRIKLJUČITE NAM SE I UŽIVAJTE S NAMA! \nLjilja Havranek \nSTAZE NA “PAPUČKIM JAGLACIMA” 2024 (Nedjelja) \n\n1. “Staza jaglaca“ HPD “Sokolovac” Požega (Ivana Šljerić i Hrvoje Mikolčević) \nPlaninarski dom „Lapjak“ – Stari grad – Tauberove stijene – Vrh Lapjaka – Šulerov put – Planinarski dom „Lapjak“. 3 sata hoda. Lagani planinarski put. \n2. “Jankovac“ HPD “Sokolovac” Požega (Dragan Davidović I Dario Francuz) \nPlaninarski dom „Lapjak“ – Duboka-Jezerce- Grofova Staza- Jankovac- Šareni stup- Duboka- PD Lapjak\, 5.30 sati hoda. Lagan planinarski put \n3. “Češljakovački vis“ HPD “Sokolovac” Požega (Dražen Jakoubek I Krešo Bubak) \nPlaninarski dom „Lapjak“ – Toplička glava – Kaniška glava – Velika bukva – Lipova glava – Čifutski bunar – Češljakovački vis – Trišnjica.\nPovratak: Trišnjica – Lipova glava – Slatka stijena – Kamenolom Tisica – Planinarski dom „Lapjak“.\n6 sati hoda. Srednje naporna tura. \n4. “Trišnjica“ – HPD “Sokolovac” Požega (Predrag Livak I Josip Kercel) \nPlaninarski dom „Lapjak“ – Kamenolom Tisica – Vidikovac Tisovac – Trišnjica – Planinarski dom „Lapjak“. 4 sata hoda. Lagan planinarski put. \n5. “Mališćak“ (PD “Mališćak”) Tomislav Šebalj I Mario Perić\nPlaninarski dom „Lapjak“ – Crkva u Velikoj – Nastavno obrazovni centar HEP-a – Turjak – Planinarsko sklonište Mališćak – Pliš – Planinarski dom „Lapjak“. 5 sati hoda. Srednje naporan planinarski put. \n6. “Tri gorska potoka” HPD “Sokolovac” Požega (Tomislav I Andrej Garilović)\nPL. dom Lapjak- Bazeni-Parking-Kamenolom- Veličanka-Sastavci-Zagradska Rijeka- Padežka cesta-Kovačev greb- Ravno- Dubočanka- PD Lapjak. Ukupno 5 h hoda. Srednje naporan planinarski put. \nPratite nas i lajkajte
URL:http://www.pd-zanatlija.hr/izlet/papucki-jaglaci-i-mps/
END:VEVENT
END:VCALENDAR