BEGIN:VCALENDAR
VERSION:2.0
PRODID:-//PD Zanatlija - ECPv4.6.9//NONSGML v1.0//EN
CALSCALE:GREGORIAN
METHOD:PUBLISH
X-WR-CALNAME:PD Zanatlija
X-ORIGINAL-URL:http://www.pd-zanatlija.hr
X-WR-CALDESC:Events for PD Zanatlija
BEGIN:VEVENT
DTSTART;TZID=Europe/Zagreb:20240511T070000
DTEND;TZID=Europe/Zagreb:20240511T180000
DTSTAMP:20260419T135941
CREATED:20231213T091323Z
LAST-MODIFIED:20240430T135045Z
UID:10553-1715410800-1715450400@www.pd-zanatlija.hr
SUMMARY:Obilaznica dr. Andrije Štampara
DESCRIPTION:Izlet Opće planinarske škole: Dilj gora\, Brodski Drenovac: \nPlaninarska obilaznica dr. Andrije Štampara \nsubota\, 11.5.2024. \n \nNa izlet su pozvani svi članovi društva! \n\n\n\nPlan izleta\n \nPolazak iz Osijeka u 7 sati\nVožnja do Brodskog Drenovca uz uobičajenu pauzu u Našicama. \nPočetak hodanja oko 10h\, uz obilazak svih kontrolnih točaka uz dulju pauzu na KT-3:\n\n\nKT-1 Rodna kuća dr. Andrije Štampara\nKT-2 Crkva sv. Dimitrija\nKT-3 Kasonjski vrh 352 m\nKT-4 Planinarska kuća „Viljevo“\, 287 m\nKT-5 Ćosin mlin na Orljavi.\n\n\nPovratak u Osijek do 19h \n\nCijena izleta: 14€ \n\nPrijevoz: autobus \n\nPrijave i uplate: \n\nkod vodiča\, Ivan Čorak\, 0997302701 (whatsapp\, viber)\, utorkom na sastancima društva.\n\n\nTežina i zahtjevnost izleta: \n\nkondicijski i tehnički nezahtjevna staza\, oko 13km i 5h hoda.\n\n  \nObavezna oprema: \n\nPlaninarska\, osobna i zdravstvena iskaznica\nOdjeća i obuća prilagođena vremenskim uvjetima:\n čvrste gojzerice\, slojevita odjeća\, zaštita od kiše\, naglavna svjetiljka\nštapovi za hodanje\nMinimalno 2l vode\nPreobuća i lagana obuća za autobus\n\nVodič prije polaska na izlet ima pravo i obvezu provjeriti opremu svih sudionika izleta; ako netko nema opremu u skladu sa zahtjevima iz najave izleta\, vodič će takvoj osobi uskratiti sudjelovanje na izletu. \n  \nPrehrana i namirnice: \n\nIz ruksaka\, tj. u vlastitom aranžmanu. Ovisno o broju prijavljenih\, postoji eventualna mogućnost organiziranog obroka (biti će na vrijeme objavljeno)\n\n  \nNapomene \nViše detalja o obilaznici potražite na stranici obilaznice \n\nZa sudjelovanje na organiziranom izletu PD Zanatlija Osijek\, nužno je imati plaćenu članarinu za tekuću kalendarsku godinu\nSvaki sudionik pristupa izletu na vlastitu odgovornost\nNije dozvoljeno uznemiravanje životinja\, branje biljaka\, te bacanje otpada po okolišu.\nOrganizator zadržava pravo izmjene programa izleta prema uvjetima na terenu.\nTijekom izleta sudionik izleta treba:\nSkrbiti se o svojoj sigurnosti i sigurnosti drugih planinara;\nPostupati prema uputama glavnog vodiča;\nPonašati se u skladu s načelima planinarske etike;\nČuvati ugled planinarske udruge;\nBiti odgovoran glavnom vodiču.\nSvaki sudionik svojim pristupanjem izletu potvrđuje da je upoznat s uvjetima izleta te da ispunjava zdravstvene\, fizičke i tehničke uvjete za sigurno sudjelovanje na izletu\, da izletu pristupa na vlastitu odgovornost\, da ima plaćenu članarinu Društvu\, te da će se u skladu s planinarskom etikom pridržavati plana izleta\, uputa i odluka glavnog vodiča.\nGlavni vodič ne snosi odgovornost za osobu koja se samovoljno udalji od vođene skupine\, bez njegova znanja ili protivno njegovoj uputi.\n\n  \nPratite nas i lajkajte
URL:http://www.pd-zanatlija.hr/izlet/obilaznica-dr-andrije-stampara/
END:VEVENT
END:VCALENDAR