BEGIN:VCALENDAR
VERSION:2.0
PRODID:-//PD Zanatlija - ECPv4.6.9//NONSGML v1.0//EN
CALSCALE:GREGORIAN
METHOD:PUBLISH
X-WR-CALNAME:PD Zanatlija
X-ORIGINAL-URL:http://www.pd-zanatlija.hr
X-WR-CALDESC:Events for PD Zanatlija
BEGIN:VEVENT
DTSTART;TZID=Europe/Zagreb:20240621T080000
DTEND;TZID=Europe/Zagreb:20240623T170000
DTSTAMP:20260419T202706
CREATED:20231213T092423Z
LAST-MODIFIED:20240606T070112Z
UID:10572-1718956800-1719162000@www.pd-zanatlija.hr
SUMMARY:NP Sutjeska
DESCRIPTION:Nacionalni park Sutjeska\, Rafting Tara/Drina \n21.06.2024. do 23.06.2024. \n  \nPetak\, 21.06.2024. \nPolazak iz Osijeka u 14:00 sati\, parking trgovačkog centra Interspar Sjenjak. Vožnja do Rafting Kamp Stari Dud uz pauze po potrebi (cca 360Km\, 6:00 sati). Dolazak u kamp\, smještaj i večera. \n  \nSubota\, 22.06.2024. \n8:00 Doručak\, pripreme za rafting\, 9:30: polazak na rafting.\nRafting 32 kilometra Tarom i Drinom\, 16:30 povratak sa raftinga\, Ručak. Večera oko 20 sati. \n  \nNedjelja\, 23.06.2024. \n7:00 Doručak\, 8:00 odlazak na stazu (40 minuta vožnje\, 30 kilometara). \nPlaninarska staza Tjentište\, Vodopad Skakavac\, Prašuma Perućica\, cca 5 sati hoda s pauzama\n13:00 sati povratak prema Osijeku\, usput obilazimo Pješčane piramide\,\nDolazak u Osijek oko 20.00 sati. \n  \nVrsta prijevoza: Kombi vozila \nMaksimalan broj sudionika 9 \nCijena: 180\,00 EUR \nU cijenu je uključen prijevoz kombi vozilom\, dva noćenja / 5 obroka Rafting Kamp Stari Dud\, Rafting. \n  \nPrijave na izlet: \nDarko Bušić\, darko@imputo.hr \nMob: 098/22 33 66 (poziv\, SMS\, Viber) \nUplate se primaju na sastancima društva utorkom (ranija uplata rezervira mjesto). \n  \nOprema:\nPlaninarska iskaznica s uplaćenom članarinom za tekuću godinu\, osobna i zdravstvena iskaznica\, obuća:  gojzerice i odjeća prilagođena vremenski prilikama i višesatnom hodanju\, štapovi za hodanje tko želi. \n  \nNapomene: \nSvaki sudionik pristupa izletu na vlastitu odgovornost\, potvrđuje da je upoznat s uvjetima izleta te da ispunjava zdravstvene\, fizičke i tehničke uvjete za sigurno sudjelovanje na izletu. \nNije dozvoljeno uznemiravanje životinja\, branje biljaka te bacanje otpada po okolišu. \nVodič zadržava pravo izmjene programa i plana izleta prema okolnostima i uvjetima na terenu. \nTijekom izleta sudionik treba: \nBrinuti o svojoj sigurnosti i sigurnosti drugih planinara; \nPonašati se u skladu s načelima planinarske etike; \nČuvati ugled planinarske udruge; \nPridržavati se plana izleta\, uputa i odluka glavnog vodiča. \nVodič ne snosi odgovornost za osobu koja se samovoljno udalji od vođene skupine\, bez njegova znanja ili protivno njegovoj uputi. \n  \nPratite nas i lajkajte
URL:http://www.pd-zanatlija.hr/izlet/np-sutjeska/
END:VEVENT
END:VCALENDAR