BEGIN:VCALENDAR
VERSION:2.0
PRODID:-//PD Zanatlija - ECPv4.6.9//NONSGML v1.0//EN
CALSCALE:GREGORIAN
METHOD:PUBLISH
X-WR-CALNAME:PD Zanatlija
X-ORIGINAL-URL:http://www.pd-zanatlija.hr
X-WR-CALDESC:Events for PD Zanatlija
BEGIN:VEVENT
DTSTART;VALUE=DATE:20251123
DTEND;VALUE=DATE:20251124
DTSTAMP:20260419T175858
CREATED:20241218T224004Z
LAST-MODIFIED:20251118T192200Z
UID:11768-1763856000-1763942399@www.pd-zanatlija.hr
SUMMARY:ODGOĐENO - Moslavačka gora\, Poučna staza „Crkveni jarak“
DESCRIPTION: \nOpis \nPoučna staza „Crkveni jarak“ nalazi se na trasi postojećeg šumskog puta (planinarske staze)\, te je opremljena signalizacijom (putokazima) i poučnim info panelima koji utječu na podizanje svijesti o važnosti očuvanja šuma i biološke raznolikosti.\nOva prekrasna šumska staza ima težu i laganiju rutu\, prolazi uz potok\, mali slap\, do arheološkog lokaliteta „Bela crkva“\, atraktivnog vidikovca Vis\, pa sve do najvišeg vrha Moslavačke gore\, Humke. \nBogatstvo flore i faune\, te očuvanost prirode veliki su potencijali Moslavačke gore koje možete doživjeti kad prehodate ovu stazu. \nOpis puta: \n\nPolazak iz Osijeka u 5:00 sati\, parking trgovačkog centra Interspar Sjenjak (kod Rokatiki)\,\nVožnja do mjesta Podgarić (cca 3:00 sata s jednom pauzom)\,\nU 8:00 krećemo s hodanjem\,\nRuta: Garić grad > Humka > Vis (KT1 HPO)  > Jezero Mikleuška  > Bela Crkva > Humka > Garić grad\nPovratak prema Osijeku oko 16:00h\, dolazak u Osijek oko 19:00 sati.\n\nStaza 16\,7 km\, 6 sati hoda / ukupno 7 sata s pauzama\,  porast/smanjenje nadmorske visine +- 501mnv. Kondicijska zahtjevnost: K2 – umjereno teško (5 do 7 sati hoda)\, tehnička zahtjevnost: T1 – ne zahtjevno\, \nU slučaju lošeg vremena izlet se odgađa. \nCijena prijevoza po osobi: 35\,00 EUR (minimalan broj sudionika 9\, 18 ili najviše 27).\nPlaćanje samo u gotovini kod vodiča/organizatora. \nHrana i piće: na stazi iz ruksaka / u vlastitom aranžmanu. \nPrijave na izlet:\nDarko Bušić\, darko@imputo.hr Mob: 098/22-33-66 (poziv\, SMS\, Viber).\nUplate se primaju na sastancima društva utorkom (ranija uplata prijevoza rezervira mjesto).\n                 \nVAŽNO! I za lakše planinarske izlete potrebna je određena razina kondicije. Planinarenje se bitno razlikuje od hodanja po ravnim gradskim ulicama – staze često vode uzbrdo\, teren je neravan i nepredvidiv\, a dodatni izazov predstavlja i nošenje ruksaka. Zbog svega toga\, čak i na manje zahtjevnim turama\, tijelo je izloženo većem naporu\, pa je važno da sudionici budu svjesni vlastitih mogućnosti i pripremljeni na fizički angažman. \nOprema: \n\nPlaninarska iskaznica s uplaćenom članarinom za tekuću godinu\nosobna i zdravstvena iskaznica\nobuća (čvršće tenisice ili gojzerice) i odjeća prilagođena vremenski prilikama i višesatnom hodanju\nštapovi za hodanje\nMinimalno 2l vode\nSva druga potrebna oprema za jednodnevni izlet\n\n Napomene \n\nSvaki sudionik pristupa izletu na vlastitu odgovornost\nNije dozvoljeno uznemiravanje životinja\, branje biljaka\, te bacanje otpada po okolišu.\nOrganizator zadržava pravo izmjene programa izleta prema uvjetima na terenu.\nTijekom izleta sudionik izleta treba:\nSkrbiti se o svojoj sigurnosti i sigurnosti drugih planinara;\nPostupati prema uputama glavnog vodiča;\nPonašati se u skladu s načelima planinarske etike;\nČuvati ugled planinarske udruge;\nBiti odgovoran glavnom vodiču.\nSvaki sudionik svojim pristupanjem izletu potvrđuje da je upoznat s uvjetima izleta te da ispunjava zdravstvene\, fizičke i tehničke uvjete za sigurno sudjelovanje na izletu\, da izletu pristupa na vlastitu odgovornost\, da ima plaćenu članarinu Društvu\, te da će se u skladu s planinarskom etikom pridržavati plana izleta\, uputa i odluka glavnog vodiča.\nGlavni vodič ne snosi odgovornost za osobu koja se samovoljno udalji od vođene skupine\, bez njegova znanja ili protivno njegovoj uputi.\n\n  \nKT HPO – 1. Moslavačka gora – vrh Vis \nVrh Vis\, nešto niži od najvišeg vrha Moslavačke gore G. Humke\, sa sjeverne strane obrastao je šumom\, dok se s južne strane pruža vidik prema dolini Save. Oko 500 m zapadnije s uređenog vidikovca otvara se vidik od istoka do zapada od Zapadnog Papuka i najvišeg vrha Papuka\, Psunja\, Kričkog brda (Zmajevca) do Zrinske i Hrastovičke gore. U smjeru juga je dolina Save a na obzoru su vrhovi Kozare (BiH). \nhttps://planinarski-portal.org/kt-hpo/info/1-moslavacka-gora-vrh-vis/ \nGarić grad \nGarić grad je jedno od najstarijih srednjovjekovnih utvrđenih naselja u sjevernoj Hrvatskoj\, smješten u srcu Moslavačke gore\, blizu mjesta Podgarić. Uz poznati Medvedgrad\, Garić grad zauzima važno mjesto u hrvatskoj povijesti\, a njegov nastanak datira u 1256. godinu\, kada ga je dao sagraditi ban Stjepan Šubić. \nOsim vojno-obrambene uloge\, Garić grad imao je i duhovni značaj. Godine 1295. dolazak pavlina\, redovnika reda sv. Pavla pustinjaka\, označio je osnivanje samostana\, koji je postao važan religijski i kulturni centar. Samostan\, s crkvom posvećenom sv. Mariji\, dugo je bio središte vjerskog života ovoga kraja. \nhttps://tzbbz.hr/turisti%C4%8Dka-ponuda/gari%C4%87-grad \nArheološko nalazište „Bela Crkva“ \nPodno najvišeg vrha Dugačkog brda na Moslavačkoj gori\, u nepristupačnom klancu potoka Kamenjače\, nalazi se najstariji pavlinski samostan na području današnje Hrvatske. Samostan Blažene Djevice Marije (Bela Crkva) osnovan je u drugoj polovini 13. stoljeća. Redovnici su tijekom 14. i 15. stoljeća brojnim darovnicama i oporukama postali vlasnici velikog broja posjeda\, priskrbivši time ovom samostanu znatan političko-ekonomski značaj. Pavlini su samostan napustili radi sve osjetnije opasnosti od otomanskih napada u vremenu između 1520. i 1544. godine. \nIstraživanja te usporedne konzervatorsko-restauratorske građevinske radove na moslavačkom pavlinskom samostanu Blažene Djevice Marije\, jednom od najznačajnijih kasnosrednjovjekovnih sakralnih objekata kontinentalne Hrvatske\, provodi Hrvatski restauratorski zavod od 2009. godine. \n   \n     \n  \n  \nPratite nas i lajkajte
URL:http://www.pd-zanatlija.hr/izlet/moslavacka-gora-2/
END:VEVENT
END:VCALENDAR