BEGIN:VCALENDAR
VERSION:2.0
PRODID:-//PD Zanatlija - ECPv4.6.9//NONSGML v1.0//EN
CALSCALE:GREGORIAN
METHOD:PUBLISH
X-WR-CALNAME:PD Zanatlija
X-ORIGINAL-URL:http://www.pd-zanatlija.hr
X-WR-CALDESC:Events for PD Zanatlija
BEGIN:VEVENT
DTSTART;VALUE=DATE:20171126
DTEND;VALUE=DATE:20171127
DTSTAMP:20260419T132814
CREATED:20171008T104354Z
LAST-MODIFIED:20171008T104354Z
UID:1899-1511654400-1511740799@www.pd-zanatlija.hr
SUMMARY:MEMORIJALNI POHOD NA ANĐINU BARAKU
DESCRIPTION:MEMORIJALNI POHOD NA ANĐINU BARAKU  \nPratite nas i lajkajte
URL:http://www.pd-zanatlija.hr/izlet/memorijalni-pohod-na-andinu-baraku/
ORGANIZER;CN="PD%20Zanatlija":MAILTO:zanatlija.osijek@gmail.com
END:VEVENT
END:VCALENDAR