BEGIN:VCALENDAR
VERSION:2.0
PRODID:-//PD Zanatlija - ECPv4.6.9//NONSGML v1.0//EN
CALSCALE:GREGORIAN
METHOD:PUBLISH
X-WR-CALNAME:PD Zanatlija
X-ORIGINAL-URL:http://www.pd-zanatlija.hr
X-WR-CALDESC:Events for PD Zanatlija
BEGIN:VEVENT
DTSTART;TZID=Europe/Zagreb:20240526T070000
DTEND;TZID=Europe/Zagreb:20240526T170000
DTSTAMP:20260421T102511
CREATED:20231213T091856Z
LAST-MODIFIED:20240301T071014Z
UID:10563-1716706800-1716742800@www.pd-zanatlija.hr
SUMMARY:Mecsek
DESCRIPTION:Mecsek\, Mađarska \nNedjelja\, 26.05.2024. \n \nOpis izleta: \n\nPolazak iz Osijeka u 7:00 sati\, parking trgovačkog centra Interspar Sjenjak (kod Rokatiki)\,\nVožnja do parkirališta Remeterét ( 110Km\, 1:40 sata)\,\nU 9:00 krećemo sa hodanjem\,\nNakon otprilike 2\,5 sata hoda dolazimo u blizinu vrha Jakab-hegy\, obilazimo ostatke manastira i vidikovac\, tu pravimo dužu pauzu za odmor/ručak\,\nNakon pauze hodamo nazad prema parkingu\,\nPolazak nazad u Osijek oko 15:00 sati. Dolazak u Osijek oko 17:00 sati\,\n\n  \nKružna staza ukupne dužine 6 sati hoda sa pauzama\, 16 km\, porast/smanjenje nadmorske visine +510 m -510m\, kondicijska zahtjevnost: K2 – umjereno zahtjevno\, tehnička zahtjevnost: T1 – ne zahtjevno \nHrana  ‘iz ruksaka’ \nPrijevoz autobusom\, maksimalan broj sudionika 45\nCijena prijevoza\, po osobi:     13\,00 EUR \nPrijave na izlet: \nDarko Bušić\, darko@imputo.hr \nMob: 098/22-33-66 (poziv\, SMS\, Viber) \nUplate se primaju na sastancima društva utorkom (ranija uplata prijevoza rezervira mjesto). \n  \nOvo je moj izlet od 18.04.2022.\nhttps://www.facebook.com/darko.osijek/posts/pfbid02z8b9Kbq5GqGXhdYZJacdextVgtygEyfGFxd2Qai75YmimU66V4TjQnXbEWzk8ciYl \n  \nSamostan Jakab-hegy bio je pavlinski samostan na granici Kővágószőlősa \, na Jakab-hegyju. Za vrijeme ugarsko-turskih ratova ostao je nenaseljen zajedno s mnogim pavlinskim samostanima\, ali je obnovljen 1736. godine. Do 1828. ponovno je bio prazan\, a od tada se njezina zgrada urušila\, a zidovi su joj uglavnom stajali samo do visine ramena ili struka. Njegove ruševine su krajem 1970-ih i 2006.-2007. godine podvrgnute konzervaciji \, a okolica je sređena\, pa se danas lako može razgledati . \nNajzanimljivija planina u zapadnom Mecsek-u je Jakab-hegy (602m n/v)\, poznata po svojim čarobnim formacijama stijena\, ruševinama pavlinskog samostana Pálos kolostor romjai  i fantastičnom vidikovcu Jakab-hegyi kilátó. \n  \n  \nOprema:  \n\nPlaninarska iskaznica s uplaćenom članarinom za tekuću godinu\nosobna i zdravstvena iskaznica\nobuća (čvršće tenisice ili gojzerice) i odjeća prilagođena vremenski prilikama i višesatnom hodanju\nštapovi za hodanje tko želi (nema uspona)\nMinimalno 2l vode\nSva druga potrebna oprema za jednodnevni izlet\n\n  \nNapomene \n\nSvaki sudionik pristupa izletu na vlastitu odgovornost\nNije dozvoljeno uznemiravanje životinja\, branje biljaka\, te bacanje otpada po okolišu.\nOrganizator zadržava pravo izmjene programa izleta prema uvjetima na terenu.\nTijekom izleta sudionik izleta treba:\nSkrbiti se o svojoj sigurnosti i sigurnosti drugih planinara;\nPostupati prema uputama glavnog vodiča;\nPonašati se u skladu s načelima planinarske etike;\nČuvati ugled planinarske udruge;\nBiti odgovoran glavnom vodiču.\nSvaki sudionik svojim pristupanjem izletu potvrđuje da je upoznat s uvjetima izleta te da ispunjava zdravstvene\, fizičke i tehničke uvjete za sigurno sudjelovanje na izletu\, da izletu pristupa na vlastitu odgovornost\, da ima plaćenu članarinu Društvu\, te da će se u skladu s planinarskom etikom pridržavati plana izleta\, uputa i odluka glavnog vodiča.\nGlavni vodič ne snosi odgovornost za osobu koja se samovoljno udalji od vođene skupine\, bez njegova znanja ili protivno njegovoj uputi.\n\n     \nPratite nas i lajkajte
URL:http://www.pd-zanatlija.hr/izlet/mecek/
END:VEVENT
END:VCALENDAR