BEGIN:VCALENDAR
VERSION:2.0
PRODID:-//PD Zanatlija - ECPv4.6.9//NONSGML v1.0//EN
CALSCALE:GREGORIAN
METHOD:PUBLISH
X-WR-CALNAME:PD Zanatlija
X-ORIGINAL-URL:http://www.pd-zanatlija.hr
X-WR-CALDESC:Events for PD Zanatlija
BEGIN:VEVENT
DTSTART;TZID=Europe/Zagreb:20181027T080000
DTEND;TZID=Europe/Zagreb:20181027T170000
DTSTAMP:20260421T134121
CREATED:20180104T210048Z
LAST-MODIFIED:20181011T180902Z
UID:2704-1540627200-1540659600@www.pd-zanatlija.hr
SUMMARY:Markacijska i radna akcija
DESCRIPTION:Čišćenje i uređenje trase te markiranje nove obilaznice Vrhovima Papuka od strane Voćina. Svi zainteresirani markacisti i ostali članovi društva koji žele sudjelovati i pomoći neka se dogovore sa Darkom Prusinom na redovitom sastanku društva ili na njegov mobitel (broj je dostupan na stranicama društva). \nŽeljko Petrović \nPratite nas i lajkajte
URL:http://www.pd-zanatlija.hr/izlet/markacisticka-i-radna-akcija/
END:VEVENT
END:VCALENDAR