BEGIN:VCALENDAR
VERSION:2.0
PRODID:-//PD Zanatlija - ECPv4.6.9//NONSGML v1.0//EN
CALSCALE:GREGORIAN
METHOD:PUBLISH
X-WR-CALNAME:PD Zanatlija
X-ORIGINAL-URL:http://www.pd-zanatlija.hr
X-WR-CALDESC:Events for PD Zanatlija
BEGIN:VEVENT
DTSTART;TZID=Europe/Zagreb:20250914T070000
DTEND;TZID=Europe/Zagreb:20250914T180000
DTSTAMP:20260419T150411
CREATED:20250902T131349Z
LAST-MODIFIED:20250902T180134Z
UID:12855-1757833200-1757872800@www.pd-zanatlija.hr
SUMMARY:Lojzin pohod - Slavonski Brod
DESCRIPTION:Lojzin pohod – Slavonski Brod\n(nedjelja\, 14. rujna 2024.g.) \n \nOdredište: Dilj Gora – Slavonski Brod – jezero Petnja\nNadnevak: nedjelja\, 14. rujna 2024.g.\nVrijeme i mjesto polaska: u 07:00 sati\, s parkirališta kod ROCATIKI NIGHT CLUBA\n(iza INTERSPARA Sjenjak)\nPovratak: u Osijek oko 18:00 sati\nPrijevoz: 15 € (autobus na bazi 30 sudionika izleta)\nPlan izleta:\n– polazak u 07:00 sati (parkiralište kod ROCATIKI NIGHT CLUBA iza INTERSPAR-a Sjenjak)\n– dolazak do jezera Petnja\, okupljanje sudionika memorijalnog pohoda – „Lojzin pohod“\,\notkrivanje spomen ploče\, polaganje vijenaca\, polazak na hodanje oko 09:30 sati\n– planirano hodanje približno 3 sata (12 km) – trasom „Diljske planinarske obilaznice“ do\nPljuskare i nazada do jezera Petnja \nNapomene:\n1. Ovaj izlet svojom težinom prikladan je za planinare početnike i djecu.\n2. Planinarsku opremu potrebno je prilagoditi vremenskim uvjetima\, „hrana iza ranca“ \n  \nKontakt:\nVodič: Vladimir Pavičić\, 091 22 71 789\, e-mail: pavicic.vladimir@gmail.com \nPratite nas i lajkajte
URL:http://www.pd-zanatlija.hr/izlet/lojzin-pohod-slavonski-brod/
ORGANIZER;CN="Vladimir%20Pavi%C4%8Di%C4%87":MAILTO:pavicic.vladimir@gmail.com
END:VEVENT
END:VCALENDAR