BEGIN:VCALENDAR
VERSION:2.0
PRODID:-//PD Zanatlija - ECPv4.6.9//NONSGML v1.0//EN
CALSCALE:GREGORIAN
METHOD:PUBLISH
X-WR-CALNAME:PD Zanatlija
X-ORIGINAL-URL:http://www.pd-zanatlija.hr
X-WR-CALDESC:Events for PD Zanatlija
BEGIN:VEVENT
DTSTART;TZID=Europe/Zagreb:20220430T063000
DTEND;TZID=Europe/Zagreb:20220501T200000
DTSTAMP:20260419T121959
CREATED:20220112T114931Z
LAST-MODIFIED:20220316T213216Z
UID:8390-1651300200-1651435200@www.pd-zanatlija.hr
SUMMARY:Krašić - Sveta Gera (Planinarska obilaznica "Sveti vrhovi hrvatskih planina")
DESCRIPTION:SVETI VRHOVI HRVATSKIH PLANINA \n30.4.-1.5.2022. godine \nhttps://zagreb-matica.hr/o-nama/planinarske-obilaznice/sveti-vrhovi-hrvatskih-planina# \nHodočasnička sekcija Sv. Josip Radnik kreće putem nove Planinarske obilaznice „Sveti vrhovi hrvatskih planina“ ! \nRiječ je o sasvim drugačijoj planinarskoj obilaznici od svih dosadašnjih jer ona u svojoj idejnoj podlozi ima kulturološko-mitološku priču koja povezuje staroslavensku i kršćansku tradiciju na prostoru današnje Republike Hrvatske\, a koja se posebno zorno očituje na njezinim planinama. Ove dvije kulturne tradicije tako su različite\, a opet\, one imaju tako snažnu poveznicu koja se evocira upravo ovom obilaznicom.  Obilaznica Sveti vrhovi hrvatskih planina ima 32 zadane kontrolne točke po cijeloj Hrvatskoj (Slavonija\, Središnja Hrvatska\, Međimurje\, Kordun\, Gorski kotar\, Istra\, Lika…)\, ali najveći broj njih nalazi se na dalmatinskim planinama i otocima. \nMi krećemo s prvim vrhom\, te planiramo vrh: \nSveta Gera  KT HPO 6.4.\, 1178 m\, i  Krašić-planinarska staza blaženog Alojzija Stepinca \nPlan puta:  \nPolazak iz Osijeka 30.4. u 6\,30 sati 30.4. 2022. \nDolazak u Krašić oko 12. sati\, gdje će nas dočekati Mladen Kuka\, inicijator i autor spomenute staze. \nKratki odmor za ručak (iz ranca)\, te kretanje na stazu blaženog Alojzija Stepinca. \nHodočasnička staza s pet postaja. Put je to kojim je hodao i koračao i blaženik tijekom svojega zatočeništva\, a počinje u Krašiću\, kod kapele Svetog Ivana Krstitelja i kipa Svete Ane\, odakle se hodočasti prema Hrženiku do Jezerina i preko Careve Drage do vidikovca na Loviću Prekriškom na području Ozlja. No iako je Stepinac većini prva asocijacija na ovo mjesto\, u okolici su rođeni i kardinal Franjo Kuharić i vojni biskup msgr. Juraj Jezerinac\, a varaždinski biskup msgr. Josip Mrzljak u Krašiću je proveo djetinjstvo i mladost\, pa je stoga taj kraj prozvan “Dolinom kardinala”. \nPlaninarsko-hodočasnička staza dugačka je 12 kilometara i sastoji se od pet kontrolnih točaka (crkva Presvetog Trojstva u Krašiću\, crkva Sv. Ivana Krstitelja\, kip svete Ane\, Jezerine i crkva Sv. križa na Lović Prekriškom).  Idejni začetnik uređenja staze je planinar i ekspedicionist Mladen Kuka. \nNakon odhodane rute\, smještaj u Hostelu Flores u Kostenjevcu (seosko gospodarstvo)\, u Parku prirode Žumberak.   \nVlasnica Hostela je umirovljena profesorica matematike\, i jedna od autora staze blaženog Alojzija Stepinca\, koja će nam u nekih pola sata ispričati malo o stazi\, i njenom nastanku. \nU Hostelu je moguće naručiti grah s kobasicom\, ili špagete bolonjez\, koji bi nam skuhali\, ako bi većina bila zainteresirana\, po cijeni od 30 kuna (izjasniti se kod uplate akontacije). \nDruženje. Noćenje. \n Naše sobe – HostelFlores – Smještaj\, SF\, Hrvatska\, fiction\, Žumberak\, hostel\, turizam\, seoski\, sport\, kultura\, rekreacija (croatia-tourism-culture.com)   \n1.5. doručak u organizaciji Hostela Flores \nPolazak autobusom\, na stazu prema Sošicama\, 8.30 sati \nU najprostranijem krškom polju Žumberačke gore leže Sošice\, mjesto čije se najstarije ime – Sussiz\, po prvi puta spominje u dokumentu što ga je daleke 1249. godine potpisao Bernard\, vlasnik nedaleke utvrde Sichelberg (Stari grad Žumberak). Uz još pet mjesta na Žumberku\, Sošice su tada kao posjed darovane novoosnovanom cistercitskome samostanu u Kostanjevici. Kada se sljedeći puta u 16. st. ponovno spominju u dokumentima\, žumberačko je područje\, opustošeno turskim osvajanjima\, već postalo dijelom Vojne krajine. \nU južnom zaselku\, Kovačima\, crkveno je središte Sošica. Tu su smješteni župni dvor i samostan časnih sestara bazilijanki\, a nasuprot njima\, na malom uzvišenju ponad ceste\, jedna pored druge stoje dvije crkvene građevine – grkokatolička crkva sv. Petra i Pavla iz 18. stoljeća i rimokatolička kapela Uznesenja Blažene Djevice Marije s početka 19. stoljeća. Ove dvije jednobrodne građevine s tornjevima pred pročeljem\, još od vremena kada su nastale jedna pored druge\, pa sve do danas\, jedno su od najslikovitijih kulturnih obilježja Žumberka. U njihovoj blizini jedna je od dviju najstarijih škola u Žumberku\, otvorena 1769. godine.\, kao i istovremena u Mrzlom Polju.\nUz put prema sjevernom dijelu sela\, na rubu polja mala je kapelica\, a do kapele sv. Antuna pustinjaka s kraja 19.stoljeća tek je nekoliko stotina metara. \nPOČETNA – Posjetiteljski centar Sošice (sosice.eu) \nNakon razgledavanja spomenutih crkava u Sošicama\, slijedi hodalačaka ruta prema Svetoj Geri -najvišem vrhu Žumberka. KT HPO 6.4.\, 1178 m /nV\, 2.30 h  (preko Tratine\, sela Sekulići\,  i pl. Doma Borisa Farkaša). \nPočetna točka uspona je na parkiralištu Doma Sošice u Sošicama. \nUspon najprije ide asfaltiranim putem kroz selo. Nastavlja laganim usponom po travnjacima\, a nakon njih šumskom stazom do križanja s makadamskim putem. Ovdje staza skreće desno\, ide jedno vrijeme makadamom\, a zatim opet lagano uzbrdo šumskom stazom\, do ponovnog križanja s makadamom na području Boljara (Područje posebne zaštite – predviđeno za posebni rezervat travnjačke vegetacije). Ovdje se skreće lijevo\, jedno vrijeme se slijedi makadamsku cestu\, a zatim ponovo lijevo na šumsku stazu. Staza dalje ide visokom bukovom šumom\, izlazi na travnati hrbat pa po njemu stalno uzbrdo do vrha. \nNa vrhu se nalazi vojarna\, odašiljač slovenske televizije\, geodetska piramida na koju je učvršćen žig\, te crkvica Svetog Ilije. S vidikovca\, otvoren je pogled u svim smjerovima \nhttps://planinarenje.hr/staze/sosice-boljara-sveta-gera?odrediste=sveta-gera \nStaza duga 2 h prema gore i oko 1.30 h prema dolje \nVisina polazišta: 562 m \nVisina odredišta: 1166 m  \nStaza: srednje teška \nDolazak do autobusa povratak prema Osijeku. \nPovratak predviđen u poslijepodnevnim satima. \nCijena po osobi: na bazi 25 prijavljenih;  450 kn\, uključuje prijevoz autobusom\, noćenje s doručkom u Hostelu Flores u Kostenjevcu \n(ukoliko bi cijena goriva bila veća\, morati ćemo promijeni cijenu prijevoza) \nOprema planinarska\, gojzerice\, štapovi\, odjeća prilagođena vremenskim uvjetima. \nVoda i hrana iz ranca\, osim za doručak 1.5. \n  \nVodič na izletu: Mirko Dominović \nUplate i prijave na sastancima društva kod: \nLjiljane Mandurić na 098795337 ili Messenger \nPratite nas i lajkajte
URL:http://www.pd-zanatlija.hr/izlet/krasic-lika/
CATEGORIES:SV. JOSIP RADNIK
END:VEVENT
END:VCALENDAR