BEGIN:VCALENDAR
VERSION:2.0
PRODID:-//PD Zanatlija - ECPv4.6.9//NONSGML v1.0//EN
CALSCALE:GREGORIAN
METHOD:PUBLISH
X-WR-CALNAME:PD Zanatlija
X-ORIGINAL-URL:http://www.pd-zanatlija.hr
X-WR-CALDESC:Events for PD Zanatlija
BEGIN:VEVENT
DTSTART;TZID=Europe/Zagreb:20241006T080000
DTEND;TZID=Europe/Zagreb:20241006T180000
DTSTAMP:20260421T135744
CREATED:20231213T093832Z
LAST-MODIFIED:20240924T074935Z
UID:10596-1728201600-1728237600@www.pd-zanatlija.hr
SUMMARY:Jesen na Krndiji
DESCRIPTION:06.10.2024. JESEN NA KRNDIJI \nJeste li se ikad zapitali gdje prestaje Papuk\, a počinje Krndija? \nOstala slavonska gorja uglavnom imaju definirane i očite granice\, a Papuk i Krndija isprepleteni su svojim grebenima i prirodnim i morfološkim izgledom tako da neprimjetno prelaze jedno u drugo. Gospodin Ivan Šišak u svom izlaganju “Geomorfologija krša Papuka” ipak definira granice između Papuka i Krndije i kaže da one idu kanjonom Velike rijeke s južne strane i kanjonom Radlovačke rijeke sa sjeverne strane. Mi ćemo na ovom izletu proći južnom granicom – slikovitim kanjonom Velike rijeke iznad Vetova.  \nPlan puta: \n8.00 polazak iz Osijeka\, parkiralište kod autopraonice na Sjenjaku (uobičajeno). Povratak je planiran u kasnim popodnevnim satima\, oko 18.00 sati. \nVožnja cestom od Osijeka prema Našicama. Kratka pauza u Našicama za kavu i doručak. Nakon toga nastavljamo put prema Vetovu. \nPlaninarska ruta: Kamenolom kod Vetova – kanjon Velike rijeke – lovačka kuća Vila laži – lovačka kuća Dobra voda – Tromeđa (Vincine) – Međa (cesta Orahovica – Kutjevo) \nVrijeme hodanja:  oko 4 sata (nisu uključene pauze) \nVisinska razlika: 300 metara \nTežina puta: lagan planinarski markirani  i nemarkirani put\, izlet primjeren za sve dobne skupine i planinare početnike. \nPotrebna oprema: čvrste planinarske gojzerice\, odjeća u skladu s vremenskim prilikama i godišnjem dobu (kapa\, slojevita odjeća\, zaštita od sunca i kiše\, dovoljno tekućine\, planinarski štapovi prema vlastitom izboru) \nInformacije o prehrani: ponijeti hrane prema osobnim potrebama\, iz ranca. \nInformacije o prijevozu: Planirani prijevoz je unajmljeni autobus. \nCijena izleta: 15 eura na bazi 30 osoba \nPrijave i uplate: utorkom na sastancima Društva kod Terezije Novoselić. Uplatiti možete i na račun PD Zanatlije\, broj je na stranicama Društva\, u opis plaćanja staviti Krndija \nPrijaviti se možete i na mail ruzicapetrovic62@yahoo.com ili mob. 091 602 20 46 kod Ružice Petrović \nNAPOMENA: Svi sudionici moraju imati opremu prilagođenu vremenskim uvjetima i boravku u planini. Na izletu voditi računa o vlastitoj sigurnosti i sigurnosti svih ostalih sudionika izleta.  \nVodič: Željko Petrović; mob. 091 730 41 29 \nPratite nas i lajkajte
URL:http://www.pd-zanatlija.hr/izlet/jesen-na-krndiji-2/
END:VEVENT
END:VCALENDAR