BEGIN:VCALENDAR
VERSION:2.0
PRODID:-//PD Zanatlija - ECPv4.6.9//NONSGML v1.0//EN
CALSCALE:GREGORIAN
METHOD:PUBLISH
X-WR-CALNAME:PD Zanatlija
X-ORIGINAL-URL:http://www.pd-zanatlija.hr
X-WR-CALDESC:Events for PD Zanatlija
BEGIN:VEVENT
DTSTART;VALUE=DATE:20171119
DTEND;VALUE=DATE:20171120
DTSTAMP:20260419T134836
CREATED:20171008T104114Z
LAST-MODIFIED:20171008T104114Z
UID:1893-1511049600-1511135999@www.pd-zanatlija.hr
SUMMARY:JESEN NA DILJU
DESCRIPTION:JESEN NA DILJU  \nPratite nas i lajkajte
URL:http://www.pd-zanatlija.hr/izlet/jesen-na-dilju/
LOCATION:Dilj\, Croatia (Local Name: Hrvatska)
ORGANIZER;CN="PD%20Zanatlija":MAILTO:zanatlija.osijek@gmail.com
END:VEVENT
END:VCALENDAR