BEGIN:VCALENDAR
VERSION:2.0
PRODID:-//PD Zanatlija - ECPv4.6.9//NONSGML v1.0//EN
CALSCALE:GREGORIAN
METHOD:PUBLISH
X-WR-CALNAME:PD Zanatlija
X-ORIGINAL-URL:http://www.pd-zanatlija.hr
X-WR-CALDESC:Events for PD Zanatlija
BEGIN:VEVENT
DTSTART;TZID=Europe/Zagreb:20250912T140000
DTEND;TZID=Europe/Zagreb:20250914T170000
DTSTAMP:20260419T132949
CREATED:20241218T222526Z
LAST-MODIFIED:20250728T131019Z
UID:11734-1757685600-1757869200@www.pd-zanatlija.hr
SUMMARY:Istarski planinarski put 2
DESCRIPTION:IPP – druga etapa\, rujan 2025. \n \n„Istarski planinarski put (IPP)\, dužine oko 150 km linijska je obilaznica od Crvenog Vrha iznad Piranskog zaljeva\, preko Ćićarije i Učke do Labina i Skitače\, pa sve do  Crne punte. To je najduža planinarska staza u Istri. Staza je otvorena 2006. godine i ima 30 kontrolnih točaka. Za uspješno svladavanje ove staze potrebno je uložiti minimalno 54 sata aktivnog hoda. Za priznanje i značku neophodno je tijekom obilaska prikupiti žigove sa svih 30 kontrolnih točaka.  \nStaza prolazi kroz raznolike krajolike Istre\, uključujući pitoreskne brežuljke\, šume hrasta i bora\, tradicionalna istarska sela\, vinograde\, maslinike te ide i uz obalu Jadranskog mora\, nudeći posjetiteljima raznovrsno iskustvo istarske prirode i kulture. IPP pruža priliku istraživanja netaknute prirode\, upoznavanja lokalne flore i faune te uživanja u prekrasnim panoramskim pogledima na istarski krajolik. Osim prirodnih ljepota\, planinarenje IPP-om omogućava i susret s bogatom istarskom kulturnom baštinom. Put prolazi kroz različite lokalitete s povijesnim značajkama poput starih crkava\, utvrda\, arheoloških nalazišta i tradicionalnih istarskih sela. \nUpravljač IPP-a je “Istarski planinarski savez” (IPS) Pula. Obilaznica ima vodič i dnevnik koji je knjižica na četiri jezika (hrvatski\, talijanski\, njemački i engleski jezik) s opisom staze i zemljovidima.“ \nhttps://www.poistri.eu/2023/12/istarski-planinarski-put-ipp-najduza.html \nTermin izleta: od 12. rujna (petak) do 14. rujna (nedjelja) 2025. \nOsnovni plan izleta: „Zanatlije“ na ovom izletu hodaju drugu dionicu IPP-a koji se obilazi u više etapa. U travnju 2025. ishodali smo prvu dionicu. Na ovom izletu obilazimo KT 7 Buzet\, KT 8 Željeznička postaja Buzet\, KT 9 Planinarska kuća Žbevnica\, KT 10 Vrh Žbevnica\, KT 11 Vrh Gomila pa ne zaboravite dnevnike za žigove. Obići ćemo i živopisna mjesta i lokacije u unutrašnjosti Istre. \nPolazak za Istru je u petak u 14 sati\, vozimo se oko šest sati do Planinarske kuže „Žbevnica“  gdje su predviđena dva noćenja https://www.hps.hr/info/planinarske-kuce/planinarska-kuca-zbevnica/ U subotu ujutro krećemo iz kuće hodati prema dolini rijeke Mirne i lokaciji ispod mjesta Mali Mlun gdje smo završili prvu etapu. Staza je duljine oko 18 km i visinske razlike oko 1000 metara uglavnom spusta. Predviđeno hodanje s pauzama i obilascima usputnih mjesta i lokacija je oko sedam sati\, a nakon hodanja odvest ćemo se kombijem i posjetiti obližnje i poznate živopisne istarske gradiće na brdima Oprtalj i Motovun. \nDrugi dan pakiramo sve stvari u kombi i iz doma krećemo penjati se na vrh Žbevnica\, a zatim  prema vrhu Gomila s kojeg puca nezaboravan pogled na pitomu istarsku unutrašnjost. Prolazimo kroz živopisna gotovo napuštena istarska sela i predivnu prirodu. Staza je duljine oko 15 km s oko 700 m uspona i isto toliko spusta. Previđen trajanje hodanja je oko pet-šest sati s pauzama. Kod mjesta Račja Vas spuštamo se sa staze na cestu do kombija koji će nas odvesti u posjetu obližnjim mjestima Roč i Hum gdje možemo negdje ručati po dogovoru\, recimo u Ročkoj konobi. \nDnevnik obilaznice – napomena: Nakon ishodane cijele obilaznice i popunjenog Dnevnika IPP-a žigovima s KT-a\, planinar može dobiti priznanje i značku. Dnevnike sam naručila za početak hodanja\, a tko želi naknadno kupiti Dnevnik\, može ga naručiti s web shopa Hrvatskog planinarskog saveza\, cijena Dnevnika je 11 eura. Preporučam kupovinu Dnevnika i onima koji ne „skupljaju“ žigove\, jer obiluje mnoštvom korisnih i zanimljivih informacija o stazi i o lokacijama.   \nVodič izleta u ime PD Zanatlija Osijek te prijave i uplate: Sanja Vladović\, mobitel 091-797-1760 \nPrijave i uplate se primaju zaključno do 31. kolovoza 2025. a nakon tog termina\, uzimaju se osobe koje su na popisu „ispod crte“. Prednost imaju planinari koji su započeli hodati IPP u travnju. Plaćanje na sastancima društva utorkom. Ranija prijava i uplata rezerviraju mjesto na izletu. \nVrsta prijevoza i broj sudionika: dva kombi vozila\, a ovisno o interesu moguće je još jedno osobno vozilo. \nSmještaj: Oba noćenja rezervirana su u Planinarskoj kući Žbevnica i kombi nas vozi do tamo. Spava se u „skupnom ležišću“ na strunjačama i potrebno je obvezno ponijeti svoje vreće za spavanje ili posteljinu. Pitke vode ima\, tuša nema. Kuća ima potpuno opremljenu modernu kuhinju. \nUkupna cijena izleta (prijevoz i noćenje): oko 140 eura\, formirat će se točno kada se bude znao broj sudionika i cijena prijevoza. \nPrehrana: Sami organiziramo svu prehranu. Za vrijeme hodanja hrana je iz ranca\, a za subotu navečer možemo se dogovoriti što ćemo\, kao i za ručak u povratku u nedjelju. \nTežina i zahtjevnost izleta: izlet je kondicijski srednje zahtjevan\, a tehnički nezahtjevan. \nVAŽNO! I za lakše planinarske izlete potrebna je određena razina kondicije. Planinarenje se razlikuje od hodanja po ravnim gradskim ulicama – staze često vode uzbrdo\, teren je neravan i nepredvidiv\, a dodatni izazov predstavlja i nošenje ruksaka. Zbog svega toga\, čak i na manje zahtjevnim turama\, tijelo je izloženo većem naporu\, pa je važno da sudionici budu svjesni vlastitih mogućnosti i pripremljeni na fizički angažman. \nOprema: \n– planinarska\, osobna i zdravstvena iskaznica; \n-odjeća i obuća prilagođeni zahtjevnosti staze i vremenskim uvjetima (kvalitetne gojzerice\, tanja i deblja odjeća\, kabanica\, sunčane naočale i pokrivalo za glavu\, naglavna lampa\, štapovi za hodanje…) te sva druga oprema potrebna za višednevni izlet (mobitel\, higijena\, osobni lijekovi\, hrana…). \nVažne napomene: Svaki sudionik pristupa izletu na vlastitu odgovornost\, potvrđuje da je upoznat s uvjetima izleta te da ispunjava zdravstvene\, fizičke i tehničke uvjete za sigurno sudjelovanje na izletu. Sudionik mora imati uplaćenu članarinu matičnom društvu za 2025. \nNije dozvoljeno uznemiravanje životinja\, branje biljaka te bacanje otpada po okolišu. \nVodič zadržava pravo izmjene programa i plana izleta prema okolnostima i uvjetima na terenu. \nVodič ne snosi odgovornost za osobu koja se samovoljno udalji od vođene skupine\, bez njegova znanja ili protivno njegovoj uputi. \nTijekom izleta sudionik treba: \n\nBrinuti o svojoj sigurnosti i sigurnosti drugih planinara;\nPonašati se u skladu s načelima planinarske etike;\nČuvati ugled planinarske udruge;\nPridržavati se plana izleta\, uputa i odluka glavnog vodiča.\n\nVodič Sanja Vladović \n  \n\n\n\n \n \n\n\n\n  \nPratite nas i lajkajte
URL:http://www.pd-zanatlija.hr/izlet/istarski-planinarski-put-2/
END:VEVENT
END:VCALENDAR