BEGIN:VCALENDAR
VERSION:2.0
PRODID:-//PD Zanatlija - ECPv4.6.9//NONSGML v1.0//EN
CALSCALE:GREGORIAN
METHOD:PUBLISH
X-WR-CALNAME:PD Zanatlija
X-ORIGINAL-URL:http://www.pd-zanatlija.hr
X-WR-CALDESC:Events for PD Zanatlija
BEGIN:VEVENT
DTSTART;TZID=Europe/Zagreb:20251031T160000
DTEND;TZID=Europe/Zagreb:20251102T200000
DTSTAMP:20260419T181444
CREATED:20251006T142858Z
LAST-MODIFIED:20251006T144008Z
UID:13070-1761926400-1762113600@www.pd-zanatlija.hr
SUMMARY:Gorski Kotar - Bjelolasica i Burni Bitoraj
DESCRIPTION:Gorski Kotar – Bjelolasica i Burni Bitoraj \n31.10. – 2.11.2025. \nBjelolasica – vrh Kula (1534m)\, (izvor:planinarski-portal.org)\nBurni Bitoraj – vrh Bitoraj (1386m)\, (izvor:planinarski-portal.org)\nPlan izleta: \n\nPetak\, 31.10. Na putu – polazak u 16:00h.\nSubota\, 1.11. Bjelolasica\, vrh Kula (prema dogovoru ako stignemo i Bijele stijene).\nNedjelja\, 2.11. Burni Bitoraj iz Brestove drage\n\nCijena izleta je 110€ po osobi\, a u cijenu je uključeno: \n\nprijevoz kombi vozilom\ndva noćenja u višekrevetnim sobama u Hostelu “Crni Lug” u naselju Crni Lug.\n\nPrijave: \nkod vodiča\, Ivan Šaravanja\, 097-7311-572 \n  \nDETALJNI PROGRAM IZLETA \nPetak\, 31. listopada \n\nPolazak: 16:00 s parkirališta kod IT parka (bivša Gacka ulica)\nVožnja do mjesta mjesta Crni Lug i smještaj u hostel\nVečer slobodna za druženje i planiranje subotnje ture\n\nSubota\, 1. studenog \nUspon na najviši vrh Bjelolasice\, vrh Kula (1534m) \nRutu ćemo dogovoriti ovisno o vremenskim prilikama. Ako uvjeti dozvole ideja je obići i Kulu i Bijele stijene isti dan. \n Duljina staze: —\nVisinska razlika: —\nTrajanje hoda: 7 – 8 sati \nNedjelja\, 2.studenog \nUspon na vrh Bitoraj (1386m) iz smjera Brestova Draga i silazak do mjesta Vrata. \nDuljina staze: oko 12 km\nVisinska razlika: cca 550 m\nTrajanje hoda: cca 5 sata \nPauza za ručak na autocesti \nPovratak u Osijek u večernjim satima \n  \nZAHTJEVNOST IZLETA: \n\nSubota: tehnički nezahtjevna\, kondicijski umjereno zahtjevna staza\nNedjelja: tehnički i kondicijski nezahtjevna staza\n\n  \nVAŽNO! I za lakše planinarske izlete potrebna je određena razina kondicije. Planinarenje se bitno razlikuje od hodanja po ravnim gradskim ulicama – staze često vode uzbrdo\, teren je neravan i nepredvidiv\, a dodatni izazov predstavlja i nošenje ruksaka. Zbog svega toga\, čak i na manje zahtjevnim turama\, tijelo je izloženo većem naporu\, pa je važno da sudionici budu svjesni vlastitih mogućnosti i pripremljeni na fizički angažman. \n  \nSMJEŠTAJ I PREHRANA: \nSmještaj je organiziran u Hostelu Crni Lug u naselju Crni Lug. Sudionicima na izletu na raspolaganju su višekrevetne sobe u renoviranom i ugodnom hostelu\, s mogućnošću korištenja kuhinje. \nNema organizirane prehrane\, stat ćemo po potrebi u dućan. Subotu navečer moguć dogovor oko zajedničke večere – tek kad se prijave završe. \n  \nOBAVEZNA OPREMA: \n\nPlaninarska\, osobna i zdravstvena iskaznica\nOdjeća i obuća prilagođena vremenskim uvjetima:\nčvrste gojzerice\, slojevita odjeća\, zaštita od kiše\, naglavna svjetiljka\nštapovi za hodanje\nMinimalno 2l vode\nVrećica za otpatke (sve što donesemo u prirodu i planinu nosimo i natrag)\nPušači obavezno moraju nositi posudu za odlaganje opušaka – zabranjeno je bacati opuške u prirodu!\nPreobuća i lagana obuća za korištenje u smještaju i izvan planinarskih staza\nSva druga potrebna oprema za višednevni izlet\n\nVodič prije polaska na izlet može provjeriti opremu svih sudionika izleta; ako netko nema opremu u skladu sa zahtjevima iz najave izleta\, vodič može takvoj osobi uskratiti sudjelovanje na izletu. \n  \nNAPOMENE: \n\nZa sudjelovanje na organiziranom izletu PD Zanatlija Osijek\, nužno je imati plaćenu članarinu za tekuću kalendarsku godinu\nSvaki sudionik pristupa izletu na vlastitu odgovornost\nNije dozvoljeno uznemiravanje životinja\, branje biljaka\, te bacanje otpada po okolišu.\nOrganizator zadržava pravo izmjene programa izleta prema uvjetima na terenu.\nTijekom izleta sudionik izleta treba:\nSkrbiti se o svojoj sigurnosti i sigurnosti drugih planinara;\nPostupati prema uputama glavnog vodiča;\nPonašati se u skladu s načelima planinarske etike;\nČuvati ugled planinarske udruge;\nBiti odgovoran glavnom vodiču.\nSvaki sudionik svojim pristupanjem izletu potvrđuje da je upoznat s uvjetima izleta te da ispunjava zdravstvene\, fizičke i tehničke uvjete za sigurno sudjelovanje na izletu\, da izletu pristupa na vlastitu odgovornost\, da ima plaćenu članarinu Društvu\, te da će se u skladu s planinarskom etikom pridržavati plana izleta\, uputa i odluka glavnog vodiča.\nGlavni vodič ne snosi odgovornost za osobu koja se samovoljno udalji od vođene skupine\, bez njegova znanja ili protivno njegovoj uputi.\n\nPratite nas i lajkajte
URL:http://www.pd-zanatlija.hr/izlet/gorski-kotar-bjelolasica-i-burni-bitoraj/
END:VEVENT
END:VCALENDAR