BEGIN:VCALENDAR
VERSION:2.0
PRODID:-//PD Zanatlija - ECPv4.6.9//NONSGML v1.0//EN
CALSCALE:GREGORIAN
METHOD:PUBLISH
X-WR-CALNAME:PD Zanatlija
X-ORIGINAL-URL:http://www.pd-zanatlija.hr
X-WR-CALDESC:Events for PD Zanatlija
BEGIN:VEVENT
DTSTART;TZID=Europe/Zagreb:20240605T060000
DTEND;TZID=Europe/Zagreb:20240609T200000
DTSTAMP:20260419T170310
CREATED:20231213T092207Z
LAST-MODIFIED:20240330T071607Z
UID:10567-1717567200-1717963200@www.pd-zanatlija.hr
SUMMARY:Durmitor
DESCRIPTION:Durmitor – Bobotov Kuk \n05.06.-09.06.2024. \nVodič: Robert Petešić (mob: 098 183 0444) \n \n„Posebnost ovog planinarenja je u ljepoti raskošnih planinskih pejzaža\, u osvajanju visina od kojih zastaje dah i s čijih vrhova se pružaju fantastični pogledi na udaljene horizonte kanjona Pive i Tare\, te najviših planina Albanije\, Srbije i Bosne (Prokletije\, Kopaonik i Zelengora).“ \n„U masivu Durmitora postoji 2000 km markiranih staza i 48 vrhova preko 2000 metara\, pet kanjona od kojih je kanjon rijeke Tare najdublji i najljepši u Europi\, 18 jezera od kojih je najveće i najljepše Crno Jezero.“ \n  \nTežina i zahtjevnost staze: Kondicijski zahtjevno\, tehnički teško-jako teško \nPrijevoz: 2 kombija (16 ljudi+2 vozača) \nSmještaj: restoran Suza Evrope (dvokrevetne\, trokrevetne i četverokrevetne sobe). Hrana je domaća i cijene su prihvatljive. \n  \nPreduvjeti za sudjelovanje na izletu: \n\nVažeća osobna i zdravstvena iskaznica\nPlaninarska iskaznica uz plaćenu članarinu za 2024. godinu\nDobro zdravstveno stanje\nDobra kondicijska sprema\nIzostanak straha od visine\nDobro raspoloženje\n\nPotrebna oprema: \n\nČvrste planinarske gojzerice\nOdjeća i obuća prilagođena vremenskim uvjetima\, planu izleta te višednevnom boravku (pribor za higijenu\, papuče\, lijekovi\, elektronička oprema i sl.)\nKrema za sunčanje\, sunčane naočale\, pokrivalo za glavu te planinarski štapovi (ovisno o potrebi pojedinca)\, zaštitne rukavice za sajle i stijene\nMinimalno 3 litre vode (prilikom uspona na vrh)\n\nCijena: 180 eura \nCijena uključuje prijevoz kombijima\, cestarinu\, 4 noćenja i ulaznicu u nacionalni park Durmitor. \nZip line i rafting su fakultativni i plaćaju se odvojeno neposredno na samom izletu. \n\nZip line – 30 eura\nRafting s ručkom – 65 eura\n\nRezervacija izleta se vrši uplatom akontacije u iznosu od 100 eura utorkom na sastancima društva osobno vodiču ili drugoj osobi čije ime će biti obznanjeno na sastanku. \nPrilikom uplate akontacije\, vodiču je potrebno naglasiti želi li osoba konzumirati Zip line odnosno biti sudionik raftinga. \nOstatak iznosa od 80 eura potrebno je uplatiti najkasnije do 15.05.2024. godine. \nU slučaju odustajanja\, akontacija se ne vraća! \nOsoba koja je odustala\, može si naći zamjenu u osobi koja ispunjava preduvjete za sudjelovanje na izletu te o tome pravovremeno informirati vodiča. \nPlan izleta: \nprvi dan: \nPolazak 05.06.2024. godine u 06.00 sati ispred Spara na Sjenjaku. Vožnja kroz Bosnu do Zenice gdje se zaustavljamo radi domaćih bureka ispod peke. Nastavljamo preko Sarajeva do Foče gdje pravimo pauzu na rijeci Drini u restoranu Antik odakle uživamo u predivnim pogledima na kanjon rijeke Drine. Putovanje nastavljamo kanjonom do granice s Crnom Gorom. Potom prolazimo pored Pivskog jezera gdje uživamo u pogledima te pravimo kraću pauzu radi fotografiranja. Putovanje nas dalje vodi uskom i krivudavom cestom s dosta atraktivnih tunela do etno sela Trsa gdje je predviđen ručak. Poslije ručka\, vozimo se do Žabljaka gdje ćemo obaviti potrebitu kupovinu namirnica. Nakon kupovine\, vozimo se do restorana Suza Evrope gdje je predviđen smještaj. \nNavečer je moguća večera u restoranu uz obavezno druženje. \ndrugi dan: \nUstajemo u 07.00 sati. Doručak\, kava i sl. te odlazak kombijima do prijevoja Sedlo (1911 m) odakle krećemo na uspon do vrha Durmitora (Bobotov Kuk\, 2523 m). Uspon traje oko 3 sata i prelazimo visinsku razliku od 876 m. Tijekom uspona\, a nakon cca sat i pol vremena hoda\, dolazimo do jezera Zeleni vir gdje pravimo dužu pauzu uz pripreme za uspon do vrha. Poslije jezera\, penjemo se do prijevoja gdje pravimo još jednu pauzu\, također radi priprema za uspon po stijenama koje su na dijelovima osigurane sajlama i klinovima. Na vrhu pravimo dužu pauzu za ručak iz ranca i uživamo u pogledima na Škrčka jezera\, Šarene pasove te na ostale mnogobrojne vrhove. Poslije odmora\, vraćamo se istim putem do smještaja uz moguće stajanje u Žabljaku radi kupovine. \nPo povratku\, večera i druženje. \nNapomena: ljudi koji se ne žele penjati po stijenama\, mogu sačekati grupu na jezeru Zeleni vir. \nTreći dan: \nUstajanje oko 07.00 sati te nakon doručka odlazimo na planinarsku turu i obilazak Durmitorskih jezera – Zmijsko (Zminje)\, Barno i Crno jezero. Na Crnom jezeru obilazimo Titovu pećinu. Na Crnom jezeru je moguć ručak iako cijene nisu baš pristupačne. Svakako ponijeti ručak u rancu. Također je moguće kupanje za one „temperaturno najhrabrije“. \nPrilikom povratka\, idemo u obilazak Žabljaka\, a nakon dolaska u smještaj\, večera i druženje. \n Četvrti dan: \nUstajanje oko 07.00 sati. Doručak te po prethodnom dogovoru s organizatorom\, odlazimo na Zip line u duljini od 1050 metara (jedan od najduljih i najatraktivnijih u Crnoj Gori). Nakon što smo se napunili adrenalinom\, odlazimo po još jednu dozu u trajanju od 2 sata i to na predivan rafting u duljini od 12 km. Potom slijedi ručak u aranžmanu organizatora. \nPo završetku Zip linea i raftinga\, odlazimo na turistički obilazak Đurđevića mosta te pravoslavnog manastira na rijeci Tari. \nČetvrti dan nije predviđen za odlazak u Žabljak radi kupovine. Istu je moguće obaviti idući dan u povratku. \nNakon povratka u smještaj\, večera i druženje. \nnapomena: osobe koje nisu izrazile želju za Zip line-om odnosno raftingom\, mogu koristiti slobodno vrijeme obilascima o čemu će dobiti savjete i upute. \n Peti dan: \nUstajanje oko 07.00. nakon doručka krećemo na put do Višegrada gdje obilazimo Andrićev grad i na Drini ćupriju. Nakon obilaska nastavljamo put dolinom rijeke Drine prema Osijeku uz potrebne pauze. \n  \nVažne napomene: \n\nSvaki sudionik pristupa izletu na vlastitu odgovornost\nNije dozvoljeno uznemiravanje životinja\, branje biljaka te bacanje otpada po okolišu.\nOrganizator zadržava pravo izmjene programa izleta prema uvjetima na terenu.\nTijekom izleta sudionik izleta treba:\n\n-skrbiti o svojoj sigurnosti i sigurnosti drugih planinara; \n-postupati prema uputama glavnog vodiča; \n-ponašati se u skladu s načelima planinarske etike; \n-čuvati ugled planinarske udruge; \n-biti odgovoran glavnom vodiču. \n\nSvaki sudionik svojim pristupanjem izletu potvrđuje da je upoznat s uvjetima izleta te da ispunjava zdravstvene\, fizičke i tehničke uvjete za sigurno sudjelovanje na izletu\, da izletu pristupa na vlastitu odgovornost\, da ima plaćenu članarinu Društvu\, te da će se u skladu s planinarskom etikom pridržavati plana izleta\, uputa i odluka glavnog vodiča.\n\nGlavni vodič ne snosi odgovornost za osobu koja se samovoljno udalji od vođene skupine\, bez njegova znanja ili protivno njegovoj uputi. \nVodič ima pravo odbiti sudjelovanje ili isključiti člana za kojeg procijeni da ne posjeduje odgovarajuću vještinu\, tjelesnu spremnost ili opremu\, kao i člana koji svojim ponašanjem ometa tijek izleta ili ugrožava sigurnost skupine. \n       \n \n  \n  \nPratite nas i lajkajte
URL:http://www.pd-zanatlija.hr/izlet/durmitor/
END:VEVENT
END:VCALENDAR