BEGIN:VCALENDAR
VERSION:2.0
PRODID:-//PD Zanatlija - ECPv4.6.9//NONSGML v1.0//EN
CALSCALE:GREGORIAN
METHOD:PUBLISH
X-WR-CALNAME:PD Zanatlija
X-ORIGINAL-URL:http://www.pd-zanatlija.hr
X-WR-CALDESC:Events for PD Zanatlija
BEGIN:VEVENT
DTSTART;VALUE=DATE:20250921
DTEND;VALUE=DATE:20250922
DTSTAMP:20260419T120432
CREATED:20241218T222554Z
LAST-MODIFIED:20250909T090317Z
UID:11736-1758412800-1758499199@www.pd-zanatlija.hr
SUMMARY:73. Dani Slavonskih Planinara
DESCRIPTION: \n\nOpis puta: \n\nPolazak iz Osijeka u 7:30 sati s parkirališta trgovačkog centra Interspar Sjenjak (kod Rokatikija);\nVožnja do pl. kuće Krndija\, cca 1:00 sata\,\nPovratak prema Osijeku oko 17 sati.\n\nProgram: \n\n8:30 Okupljanje planinara i ostalih sudionika kod pl. kuće »Krndija« na Londžici\,\n9:00 Pozdravna riječ domaćina\, otvorenje 73. Dana Slavonskih planinara i prigodne izložbe\,\n9:15 Polazak na planinarske staze\,\nNakon hodanja Udruga starih športova Slavonac organizira zabavni sadržaji i sportske igre uz prugu\,\n13:00 Ručak\, Planinarski grah\, obavezno ponijeti posude za jelo i pribor\,\n15:00 Podjela priznanja PU Slavonski planinari “Kamilo Firinger” za obilaznike Slavonskog PP i zahvalnica za sudjelovanje na Danu Slavonskih planinara.\n\nDomaćin je pripremio 2 staze: lakša staza (2-3 h) i teža staza (3-4 h). \nKondicijska zahtjevnost: K1 – lagano (do5 sati hoda)\, tehnička zahtjevnost: T1 – Ne zahtjevno. \nCijena prijevoza autobusom po osobi: 12\,00 EUR (minimalan broj sudionika 40\, najviše 48). \nHrana i piće: Iz ruksaka u vlastitom aranžmanu. Grah kod pl. kuće Krndija. \nPrijave na izlet:\nDarko Bušić\, darko@imputo.hr  Mob: 098/22-33-66 (poziv\, SMS\, Viber). \nUplate se primaju na sastancima društva utorkom (ranija uplata prijevoza rezervira mjesto).\nUplate na IBAN: HR46 2360 0001 1027 9137 8\, u opis navesti naziv izleta i ime i prezime planinara. \n                 \nOprema: \n\nPlaninarska iskaznica s uplaćenom članarinom za tekuću godinu;\nosobna i zdravstvena iskaznica\,\nobuća (čvršće tenisice ili gojzerice) i odjeća prilagođena vremenski prilikama i višesatnom hodanju\,\nštapovi za hodanje\,\nMinimalno 2l vode\,\nSva druga potrebna oprema za jednodnevni izlet\,\nPosuda i pribor za jelo\,\n\n Napomene \n\nSvaki sudionik pristupa izletu na vlastitu odgovornost.\nNije dozvoljeno uznemiravanje životinja\, branje biljaka\, te bacanje otpada po okolišu.\nOrganizator zadržava pravo izmjene programa izleta prema uvjetima na terenu.\nTijekom izleta sudionik izleta treba:\nSkrbiti se o svojoj sigurnosti i sigurnosti drugih planinara;\nPostupati prema uputama glavnog vodiča;\nPonašati se u skladu s načelima planinarske etike;\nČuvati ugled planinarske udruge;\nBiti odgovoran glavnom vodiču.\nSvaki sudionik svojim pristupanjem izletu potvrđuje da je upoznat s uvjetima izleta te da ispunjava zdravstvene\, fizičke i tehničke uvjete za sigurno sudjelovanje na izletu\, da izletu pristupa na vlastitu odgovornost\, da ima plaćenu članarinu Društvu\, te da će se u skladu s planinarskom etikom pridržavati plana izleta\, uputa i odluka glavnog vodiča.\n\n  \nPratite nas i lajkajte
URL:http://www.pd-zanatlija.hr/izlet/dani-slavonskih-planinara/
END:VEVENT
END:VCALENDAR