BEGIN:VCALENDAR
VERSION:2.0
PRODID:-//PD Zanatlija - ECPv4.6.9//NONSGML v1.0//EN
CALSCALE:GREGORIAN
METHOD:PUBLISH
X-WR-CALNAME:PD Zanatlija
X-ORIGINAL-URL:http://www.pd-zanatlija.hr
X-WR-CALDESC:Events for PD Zanatlija
BEGIN:VEVENT
DTSTART;TZID=Europe/Zagreb:20241228T063000
DTEND;TZID=Europe/Zagreb:20241228T200000
DTSTAMP:20260419T123528
CREATED:20231012T130519Z
LAST-MODIFIED:20241122T083725Z
UID:10335-1735367400-1735416000@www.pd-zanatlija.hr
SUMMARY:10. Zimski uspon na vrh Papuka
DESCRIPTION:Izlet je prvo bio planiran za 29.12.2024.g. ali je pomaknut na dan ranije. Dakle\, izlet će se održati 28.12.2024.g. \nPlan puta: \n6.30 polazak iz Osijeka\, parkiralište kod autopraonice na Sjenjaku (uobičajeno). Povratak je planiran u ranim večernjim satima\, oko 20.00 sati..  \nVožnja cestom od Osijeka prema Našicama gdje ćemo napraviti uobičajenu jutarnju polusatnu pauzu za doručak i kavu. Nastavljamo prema Vučjaku Kamenskom i lovačkoj kući Jelen na Luli. Ondje napuštamo autobus i krećemo na uspon prema vrhu Papuka preko zapadnog grebena. Predvidivi početak hodanja oko 9.30 sati. \nPlaninarska ruta: Lula – zapadni greban – vrh Papuka; povratak cestom prema Anđinoj baraki. \nVrijeme hodanja: 6 h \nVisinska razlika:  600m \nTežina puta: zahtjevniji planinarski markirani put\, potrebna kondicijska spremnost za šestosatno hodanje. \nPotrebna oprema: čvrste planinarske gojzerice\, odjeća u skladu s vremenskim prilikama i godišnjem dobu (kapa\, šal\, rukavice\, slojevita odjeća)\, ponijeti zaštitu od kiše\, ponijeti min. 1l tekućine\, čeona lampa i planinarski štapovi obavezni. \nInformacije o prehrani: ponijeti hrane prema osobnim potrebama\, pauza za jelo predviđena na vrhu oko 13 sati\, a po završetku  ture\, iza 16 sati\, planiramo odlazak u Društveni dom u Čačincima. Ondje će biti organiziran  ručak u pripremi Gastro sekcije Društva\, ručak je gratis. \nInformacije o prijevozu: Planirani prijevoz je unajmljeni autobus. \nCijena izleta: 10 eura \nPrijave i uplate: utorkom na sastancima Društva kod Terezije Novoselić. \nPrijaviti se možete i na mail ruzicapetrovic62@yahoo.com ili mob. 091 602 20 46 kod Ružice Petrović \nNAPOMENA:  Za ručak je potrebno ponijeti svoju posudu i pribor za jelo koji mogu ostati u autobusu za vrijeme hodanja. Također\, potrebno je ponijeti drugu obuću u koju ćete se preobuti nakon hodanja\, za boravak u Domu. Isto može ostati u autobusu za vrijeme hodanja. \nVodič ima pravo izmijeniti rutu hodanja i prilagoditi je vremenskim uvjetima i sastavu grupe. \nVodič: Željko Petrović\nmob. 091 730 41 29 \n      div.simple-google-photos-grid {\n        width:100%;\n        height:100%;\n        overflow:hidden;      \n      }\n      div.simple-google-photos-grid-cell {\n        box-sizing:border-box;\n        padding:5px;\n        float:left;\n      }\n      img.simple-google-photos-grid-image {\n        object-fit: cover;\n      }      (function() {\n        if( window.jQuery ){\n          jQuery( document ).ready(function() {\n            jQuery("div.simple-google-photos-grid").each(function(i){\n              var container = jQuery(this);\n              var width = container.find("div.simple-google-photos-grid-cell").first().width();\n              container.find("img.simple-google-photos-grid-image").css("width"\, width).css("height"\, width);          \n            });          \n          });\n        }\n      })();\n \nPratite nas i lajkajte
URL:http://www.pd-zanatlija.hr/izlet/10-zimski-uspon-na-vrh-papuka/
END:VEVENT
END:VCALENDAR